BEGIN:VCALENDAR
VERSION:2.0
PRODID:-//Ville Des Andelys - ECPv6.15.20//NONSGML v1.0//EN
CALSCALE:GREGORIAN
METHOD:PUBLISH
X-WR-CALNAME:Ville Des Andelys
X-ORIGINAL-URL:https://www.ville-andelys.fr
X-WR-CALDESC:Évènements pour Ville Des Andelys
REFRESH-INTERVAL;VALUE=DURATION:PT1H
X-Robots-Tag:noindex
X-PUBLISHED-TTL:PT1H
BEGIN:VTIMEZONE
TZID:Europe/Paris
BEGIN:DAYLIGHT
TZOFFSETFROM:+0100
TZOFFSETTO:+0200
TZNAME:CEST
DTSTART:20240331T010000
END:DAYLIGHT
BEGIN:STANDARD
TZOFFSETFROM:+0200
TZOFFSETTO:+0100
TZNAME:CET
DTSTART:20241027T010000
END:STANDARD
BEGIN:DAYLIGHT
TZOFFSETFROM:+0100
TZOFFSETTO:+0200
TZNAME:CEST
DTSTART:20250330T010000
END:DAYLIGHT
BEGIN:STANDARD
TZOFFSETFROM:+0200
TZOFFSETTO:+0100
TZNAME:CET
DTSTART:20251026T010000
END:STANDARD
BEGIN:DAYLIGHT
TZOFFSETFROM:+0100
TZOFFSETTO:+0200
TZNAME:CEST
DTSTART:20260329T010000
END:DAYLIGHT
BEGIN:STANDARD
TZOFFSETFROM:+0200
TZOFFSETTO:+0100
TZNAME:CET
DTSTART:20261025T010000
END:STANDARD
END:VTIMEZONE
BEGIN:VEVENT
DTSTART;TZID=Europe/Paris:20250429T143000
DTEND;TZID=Europe/Paris:20250429T160000
DTSTAMP:20260420T202000
CREATED:20250414T074507Z
LAST-MODIFIED:20250422T123619Z
UID:10002521-1745937000-1745942400@www.ville-andelys.fr
SUMMARY:Café mortel
DESCRIPTION:Vous avez plus de 60 ans ou vous êtes « aidants » ?\nL’association Begin’Age vous invite à participer à son prochain « Café mortel » qui aura lieu le mardi 29 avril de 14h30 à 16h00 aux Andelys.\nLe sujet de la Mort est devenu tabou dans notre société\, nous n’osons plus aborder ces questions\, ne voulons pas « déranger notre entourage avec ça »\, …\nSi vous souhaitez échanger en toute bienveillance sur votre rapport personnel à la mort\, à la fin de vie\, au deuil\, rejoignez Emilie et Isabelle pour ce temps convivial autour d’un café gourmand\, dans un environnement chaleureux qu’offre le bar lounge « le QG » (47b rue Marcel Lefèvre). \nInformations et inscription \nCette rencontre est gratuite (café gourmand offert) mais l’inscription est obligatoire car le nombre de places est limité. \ncontact@begin-age.org ou 07 44 83 76 37 (n’hésitez pas à laisser un message sur le répondeur !) \nAu plaisir de vous y retrouver !
URL:https://www.ville-andelys.fr/evenement/cafe-mortel/
LOCATION:Le QG\, 47 bis\, rue Marcel Lefèvre\, Les Andelys\, Eure\, 27700\, France
CATEGORIES:Santé
ATTACH;FMTTYPE=image/jpeg:https://www.ville-andelys.fr/wp-content/uploads/Affiche-A4-cafes-mortels-les-Andelys-logoCCAS.jpg
END:VEVENT
BEGIN:VEVENT
DTSTART;TZID=Europe/Paris:20250429T170000
DTEND;TZID=Europe/Paris:20250429T190000
DTSTAMP:20260420T202000
CREATED:20250527T151024Z
LAST-MODIFIED:20250527T151159Z
UID:10002618-1745946000-1745953200@www.ville-andelys.fr
SUMMARY:La rencontre des aidants
DESCRIPTION:Vous accompagnez une personne âgée (conjoint\, parent\, ami\, voisin…) ? \nVenez participer à des rencontres animées par une psychologue et le Clic Est. Ensemble\, préservons une relation bienveillante. \nPour tout renseignement\, veuillez vous rapprocher du CLIC : clic-est@eure.fr/02 32 71 24 73 \nParticipation libre
URL:https://www.ville-andelys.fr/evenement/la-rencontre-des-aidants/2025-04-29/
LOCATION:Le QG\, 47 bis\, rue Marcel Lefèvre\, Les Andelys\, Eure\, 27700\, France
CATEGORIES:Solidarité
ATTACH;FMTTYPE=image/jpeg:https://www.ville-andelys.fr/wp-content/uploads/RencontreDesAidants_Page_1.jpg
END:VEVENT
BEGIN:VEVENT
DTSTART;TZID=Europe/Paris:20250429T190000
DTEND;TZID=Europe/Paris:20250429T190000
DTSTAMP:20260420T202000
CREATED:20250116T135421Z
LAST-MODIFIED:20250424T142357Z
UID:10002187-1745953200-1745953200@www.ville-andelys.fr
SUMMARY:Conseil municipal
DESCRIPTION:Le Conseil municipal aura lieu en salle des mariages des Andelys\, le mardi 29 avril 2025 à 19h. \nOrdre du jour
URL:https://www.ville-andelys.fr/evenement/conseil-municipal-3/
LOCATION:Salle des mariages\, Avenue du Général de Gaulle\, Les Andelys\, Eure\, 27700\, France
CATEGORIES:Vie citoyenne
ATTACH;FMTTYPE=image/jpeg:https://www.ville-andelys.fr/wp-content/uploads/shutterstock_1830076430-5-scaled.jpg
ORGANIZER;CN="Ville des Andelys":MAILTO:contact@ville-andelys.fr
END:VEVENT
END:VCALENDAR