BEGIN:VCALENDAR
VERSION:2.0
PRODID:-//Ville Des Andelys - ECPv6.15.20//NONSGML v1.0//EN
CALSCALE:GREGORIAN
METHOD:PUBLISH
X-ORIGINAL-URL:https://www.ville-andelys.fr
X-WR-CALDESC:Évènements pour Ville Des Andelys
REFRESH-INTERVAL;VALUE=DURATION:PT1H
X-Robots-Tag:noindex
X-PUBLISHED-TTL:PT1H
BEGIN:VTIMEZONE
TZID:Europe/Paris
BEGIN:DAYLIGHT
TZOFFSETFROM:+0100
TZOFFSETTO:+0200
TZNAME:CEST
DTSTART:20240331T010000
END:DAYLIGHT
BEGIN:STANDARD
TZOFFSETFROM:+0200
TZOFFSETTO:+0100
TZNAME:CET
DTSTART:20241027T010000
END:STANDARD
BEGIN:DAYLIGHT
TZOFFSETFROM:+0100
TZOFFSETTO:+0200
TZNAME:CEST
DTSTART:20250330T010000
END:DAYLIGHT
BEGIN:STANDARD
TZOFFSETFROM:+0200
TZOFFSETTO:+0100
TZNAME:CET
DTSTART:20251026T010000
END:STANDARD
BEGIN:DAYLIGHT
TZOFFSETFROM:+0100
TZOFFSETTO:+0200
TZNAME:CEST
DTSTART:20260329T010000
END:DAYLIGHT
BEGIN:STANDARD
TZOFFSETFROM:+0200
TZOFFSETTO:+0100
TZNAME:CET
DTSTART:20261025T010000
END:STANDARD
END:VTIMEZONE
BEGIN:VEVENT
DTSTART;VALUE=DATE:20250517
DTEND;VALUE=DATE:20250519
DTSTAMP:20260420T202248
CREATED:20250515T135452Z
LAST-MODIFIED:20250515T135601Z
UID:10002547-1747440000-1747612799@www.ville-andelys.fr
SUMMARY:Compétitions de judo
DESCRIPTION:Samedi 17 mai \n\nDe 09h30 à 12h30 : circuit régional des ceintures\, cadets 3\, juniors et seniors\nAprès-midi : coupe départementale minime\n\nDimanche 18 mai \n\n09h00 à 17h00 : Compétition \, Challenge Nadia Prvost\n\nGymnase Boyer – Entrée libre
URL:https://www.ville-andelys.fr/evenement/competitions-de-judo/
LOCATION:Gymnase Henri Boyer\, Rue Raymond Phelip\, Les Andelys\, Eure\, 27700\, France
CATEGORIES:Sport
ATTACH;FMTTYPE=image/jpeg:https://www.ville-andelys.fr/wp-content/uploads/Judo-enfant-scaled.jpg
ORGANIZER;CN="Association %3A CSA Judo":MAILTO:beauvilain@hotmail.fr
END:VEVENT
BEGIN:VEVENT
DTSTART;VALUE=DATE:20250517
DTEND;VALUE=DATE:20250602
DTSTAMP:20260420T202248
CREATED:20250507T095759Z
LAST-MODIFIED:20250507T095940Z
UID:10002540-1747440000-1748822399@www.ville-andelys.fr
SUMMARY:Exposition : « Paysages de la Seine »
DESCRIPTION:L’exposition “Paysages de la Seine” se tiendra dans le hall du Nouvel Hôpital Saint-Jacques\, du samedi 17 mai au dimanche 1er juin\, tous les jours de 14h30 à 18h30 (entrée gratuite). À travers cette exposition photographique\, les visiteurs sont invités à (re)découvrir les multiples visages de la Seine d’hier et d’aujourd’hui\, symbole vivant de notre territoire\, entre beauté naturelle et regard sensible sur notre environnement fluvial. \nRendez-vous mercredi 21 mai à 18h30 au Centre hospitalier St Jacques\, pour le vernissage de l’exposition. \nTélécharger l’affiche \n\nGratuite et ouvert à tous.\n\nToute les infos sur le programme « Au fil de l’eau »
URL:https://www.ville-andelys.fr/evenement/une-immersion-artistique-dans-les-paysages-de-la-seine/
LOCATION:Centre hospitalier Saint-Jacques Les Andelys\, 141 route de la Paix\, Les Andelys\, Eure\, 27700\, France
CATEGORIES:Artistique,Culturel,Exposition,Inauguration,Loisirs,Patrimoine
ATTACH;FMTTYPE=image/jpeg:https://www.ville-andelys.fr/wp-content/uploads/Affiche-OPP2-AnthropoSeine-scaled.jpg
ORGANIZER;CN="Ville des Andelys":MAILTO:contact@ville-andelys.fr
END:VEVENT
BEGIN:VEVENT
DTSTART;TZID=Europe/Paris:20250518T070000
DTEND;TZID=Europe/Paris:20250518T180000
DTSTAMP:20260420T202248
CREATED:20250409T142030Z
LAST-MODIFIED:20250409T142030Z
UID:10002519-1747551600-1747591200@www.ville-andelys.fr
SUMMARY:Foire à tout
DESCRIPTION:Dimanche 18 mai de 7h à 18h aura lieu la foire à tout de l’APE Les amis de Marcel dans la cour de l’école Marcel Lefèvre au 2 rue Pasteur. \nTarif : 5 € les 2 mètres \nRéservation obligatoire : 07 82 28 11 62 / 07 50 09 32 10 \n 
URL:https://www.ville-andelys.fr/evenement/foire-a-tout/
LOCATION:École Marcel Lefèvre\, 2 rue Louis Pasteur\, Les Andelys\, Eure\, 27700\, France
CATEGORIES:Loisir
ATTACH;FMTTYPE=image/png:https://www.ville-andelys.fr/wp-content/uploads/APE-Les-amis-de-Marcel.png
ORGANIZER;CN="Association %3A APE Les Amis de Marcel":MAILTO:ape.ecolemarcellefevre@outlook.fr
END:VEVENT
BEGIN:VEVENT
DTSTART;TZID=Europe/Paris:20250518T100000
DTEND;TZID=Europe/Paris:20250518T180000
DTSTAMP:20260420T202248
CREATED:20250430T082023Z
LAST-MODIFIED:20250430T082033Z
UID:10002537-1747562400-1747591200@www.ville-andelys.fr
SUMMARY:Fête du Printemps 2025
DESCRIPTION:La fête du printemps fait son retour avec un magnifique programme comprenant notamment un salon de peinture\, un marché artisanal et des animations avec la participation des héritiers du Château-Gaillard ! \nL’OCLA vous donne rendez-vous pour cette 13e édition\, le week-end du 17 et 18 mai\, sur les berges de Seine. \nL’entrée est libre et une restauration vous sera proposée sur place. \nPour plus de renseignements : OCLA 02 32 71 04 75 / ocla2@orange.fr
URL:https://www.ville-andelys.fr/evenement/fete-du-printemps/2025-05-18/
LOCATION:Berges de Seine\, Les Andelys\, Eure\, 27700\, France
CATEGORIES:Commerçant,Culturel,Exposition,Loisirs,Sortie famille
ATTACH;FMTTYPE=image/png:https://www.ville-andelys.fr/wp-content/uploads/Affiche13eme-Fete-de-Printemps.png
ORGANIZER;CN="OCLA":MAILTO:ocla2@orange.fr
END:VEVENT
END:VCALENDAR