BEGIN:VCALENDAR
VERSION:2.0
PRODID:-//Ville Des Andelys - ECPv6.15.20//NONSGML v1.0//EN
CALSCALE:GREGORIAN
METHOD:PUBLISH
X-WR-CALNAME:Ville Des Andelys
X-ORIGINAL-URL:https://www.ville-andelys.fr
X-WR-CALDESC:Évènements pour Ville Des Andelys
REFRESH-INTERVAL;VALUE=DURATION:PT1H
X-Robots-Tag:noindex
X-PUBLISHED-TTL:PT1H
BEGIN:VTIMEZONE
TZID:Europe/Paris
BEGIN:DAYLIGHT
TZOFFSETFROM:+0100
TZOFFSETTO:+0200
TZNAME:CEST
DTSTART:20240331T010000
END:DAYLIGHT
BEGIN:STANDARD
TZOFFSETFROM:+0200
TZOFFSETTO:+0100
TZNAME:CET
DTSTART:20241027T010000
END:STANDARD
BEGIN:DAYLIGHT
TZOFFSETFROM:+0100
TZOFFSETTO:+0200
TZNAME:CEST
DTSTART:20250330T010000
END:DAYLIGHT
BEGIN:STANDARD
TZOFFSETFROM:+0200
TZOFFSETTO:+0100
TZNAME:CET
DTSTART:20251026T010000
END:STANDARD
BEGIN:DAYLIGHT
TZOFFSETFROM:+0100
TZOFFSETTO:+0200
TZNAME:CEST
DTSTART:20260329T010000
END:DAYLIGHT
BEGIN:STANDARD
TZOFFSETFROM:+0200
TZOFFSETTO:+0100
TZNAME:CET
DTSTART:20261025T010000
END:STANDARD
END:VTIMEZONE
BEGIN:VEVENT
DTSTART;VALUE=DATE:20250517
DTEND;VALUE=DATE:20250602
DTSTAMP:20260420T202118
CREATED:20250507T095759Z
LAST-MODIFIED:20250507T095940Z
UID:10002540-1747440000-1748822399@www.ville-andelys.fr
SUMMARY:Exposition : « Paysages de la Seine »
DESCRIPTION:L’exposition “Paysages de la Seine” se tiendra dans le hall du Nouvel Hôpital Saint-Jacques\, du samedi 17 mai au dimanche 1er juin\, tous les jours de 14h30 à 18h30 (entrée gratuite). À travers cette exposition photographique\, les visiteurs sont invités à (re)découvrir les multiples visages de la Seine d’hier et d’aujourd’hui\, symbole vivant de notre territoire\, entre beauté naturelle et regard sensible sur notre environnement fluvial. \nRendez-vous mercredi 21 mai à 18h30 au Centre hospitalier St Jacques\, pour le vernissage de l’exposition. \nTélécharger l’affiche \n\nGratuite et ouvert à tous.\n\nToute les infos sur le programme « Au fil de l’eau »
URL:https://www.ville-andelys.fr/evenement/une-immersion-artistique-dans-les-paysages-de-la-seine/
LOCATION:Centre hospitalier Saint-Jacques Les Andelys\, 141 route de la Paix\, Les Andelys\, Eure\, 27700\, France
CATEGORIES:Artistique,Culturel,Exposition,Inauguration,Loisirs,Patrimoine
ATTACH;FMTTYPE=image/jpeg:https://www.ville-andelys.fr/wp-content/uploads/Affiche-OPP2-AnthropoSeine-scaled.jpg
ORGANIZER;CN="Ville des Andelys":MAILTO:contact@ville-andelys.fr
END:VEVENT
BEGIN:VEVENT
DTSTART;VALUE=DATE:20250524
DTEND;VALUE=DATE:20250526
DTSTAMP:20260420T202118
CREATED:20250522T155334Z
LAST-MODIFIED:20250522T155417Z
UID:10002554-1748044800-1748217599@www.ville-andelys.fr
SUMMARY:Des bolides miniatures... pour un spectacle XXL
DESCRIPTION:Instant sport – Ce week-end aux Andelys\, les moteurs miniatures vont rugir !\n\n\n \n\n\nLes 24 et 25 mai au stade René Tomasini\, le MACA – Mini Auto Club Andelysien accueille la 2e manche du Championnat de France 1/8e thermique tout-terrain. 78 pilotes\, des moteurs thermiques survoltés\, un circuit ultra-technique et spectaculaire !\n\n\n \n\n\nEntrée libre\, buvette et restauration sur place.
URL:https://www.ville-andelys.fr/evenement/des-bolides-miniatures-pour-un-spectacle-xxl/
LOCATION:Stade Tomasini\, Allée du Roi de Rome\, Les Andelys\, Eure\, 27700\, France
CATEGORIES:Loisirs,Sortie famille,Sport
ATTACH;FMTTYPE=image/jpeg:https://www.ville-andelys.fr/wp-content/uploads/1745410323388-01a6553e-f43b-4f69-9bb0-e285f9e44378_1.jpg
ORGANIZER;CN="Association %3A MACA - Mini Auto Club Andelysien":MAILTO:maxime.colas@maca27.fr
END:VEVENT
BEGIN:VEVENT
DTSTART;TZID=Europe/Paris:20250525T080000
DTEND;TZID=Europe/Paris:20250525T180000
DTSTAMP:20260420T202118
CREATED:20250520T133521Z
LAST-MODIFIED:20250626T090206Z
UID:10002550-1748160000-1748196000@www.ville-andelys.fr
SUMMARY:1ère brocante de l'été
DESCRIPTION:Dimanche 25 mai de 08h00 à 18h00\, se déroulera la 1ère brocante de l’été en bord de Seine\, place Gabriel Michel. \nPour tout renseignement : brocanteandelys@gmail.com
URL:https://www.ville-andelys.fr/evenement/1ere-brocante-de-lete/
LOCATION:Berges de Seine\, Les Andelys\, Eure\, 27700\, France
CATEGORIES:Commerçant,Loisirs,Sortie famille
ATTACH;FMTTYPE=image/jpeg:https://www.ville-andelys.fr/wp-content/uploads/Brocante-2025.jpg
END:VEVENT
END:VCALENDAR