BEGIN:VCALENDAR
VERSION:2.0
PRODID:-//Ville Des Andelys - ECPv6.15.20//NONSGML v1.0//EN
CALSCALE:GREGORIAN
METHOD:PUBLISH
X-ORIGINAL-URL:https://www.ville-andelys.fr
X-WR-CALDESC:Évènements pour Ville Des Andelys
REFRESH-INTERVAL;VALUE=DURATION:PT1H
X-Robots-Tag:noindex
X-PUBLISHED-TTL:PT1H
BEGIN:VTIMEZONE
TZID:Europe/Paris
BEGIN:DAYLIGHT
TZOFFSETFROM:+0100
TZOFFSETTO:+0200
TZNAME:CEST
DTSTART:20240331T010000
END:DAYLIGHT
BEGIN:STANDARD
TZOFFSETFROM:+0200
TZOFFSETTO:+0100
TZNAME:CET
DTSTART:20241027T010000
END:STANDARD
BEGIN:DAYLIGHT
TZOFFSETFROM:+0100
TZOFFSETTO:+0200
TZNAME:CEST
DTSTART:20250330T010000
END:DAYLIGHT
BEGIN:STANDARD
TZOFFSETFROM:+0200
TZOFFSETTO:+0100
TZNAME:CET
DTSTART:20251026T010000
END:STANDARD
BEGIN:DAYLIGHT
TZOFFSETFROM:+0100
TZOFFSETTO:+0200
TZNAME:CEST
DTSTART:20260329T010000
END:DAYLIGHT
BEGIN:STANDARD
TZOFFSETFROM:+0200
TZOFFSETTO:+0100
TZNAME:CET
DTSTART:20261025T010000
END:STANDARD
END:VTIMEZONE
BEGIN:VEVENT
DTSTART;VALUE=DATE:20250602
DTEND;VALUE=DATE:20250615
DTSTAMP:20260420T185607
CREATED:20250522T101732Z
LAST-MODIFIED:20250522T101732Z
UID:10002552-1748822400-1749945599@www.ville-andelys.fr
SUMMARY:Portes ouvertes conservatoire SNA
DESCRIPTION:Du 02 au 14 juin\, se dérouleront les portes ouvertes pour le conservatoire de Seine Normandie Agglomération. Venez découvrir les instruments\, la danse\, le théâtre\, observer et discuter avec les professeurs. \nEntrée libre. \nContact site des Andelys : 02 32 54 09 82 \nTélécharger l’affiche
URL:https://www.ville-andelys.fr/evenement/portes-ouvertes-conservatoire-sna/
LOCATION:École de musique et de danse Jacques Ibert\, 8 Boulevard Néhou\, Les Andelys\, Eure\, 27700\, France
CATEGORIES:Artistique,Jeunesse,Loisirs
ATTACH;FMTTYPE=image/jpeg:https://www.ville-andelys.fr/wp-content/uploads/Portes-ouvertes-ecole-de-musique-2.jpg
END:VEVENT
BEGIN:VEVENT
DTSTART;TZID=Europe/Paris:20250613T140000
DTEND;TZID=Europe/Paris:20250613T160000
DTSTAMP:20260420T185607
CREATED:20250211T134537Z
LAST-MODIFIED:20250211T140237Z
UID:10002341-1749823200-1749830400@www.ville-andelys.fr
SUMMARY:Ateliers numériques
DESCRIPTION:Ensemble rendons le numérique accessible à tous ! \nToutes les deux semaines\, le vendredi de 14h00 à 16h00\, venez participer aux ateliers numériques pour l’apprentissage et l’accompagnement dans l’utilisation des outils numériques. \n\nGratuit\, ouvert à tous\n\nInscription au 06 80 52 50 15 / q.coinon@ville-andelys.fr
URL:https://www.ville-andelys.fr/evenement/ateliers-numeriques/2025-06-13/
LOCATION:Résidence autonomie Les Petits Près\, Rue Flavigny\, Espace Christiane Hamard\, Les Andelys\, 27700
CATEGORIES:Loisirs,Solidarité,Vie citoyenne
ATTACH;FMTTYPE=image/jpeg:https://www.ville-andelys.fr/wp-content/uploads/Ateliers-numeriques-FS-scaled.jpg
ORGANIZER;CN="France services":MAILTO:franceservices@ville-andelys.fr
GEO:49.2463472;1.4053906
X-APPLE-STRUCTURED-LOCATION;VALUE=URI;X-ADDRESS=Résidence autonomie Les Petits Près Rue Flavigny Espace Christiane Hamard Les Andelys 27700;X-APPLE-RADIUS=500;X-TITLE=Rue Flavigny\, Espace Christiane Hamard:geo:1.4053906,49.2463472
END:VEVENT
BEGIN:VEVENT
DTSTART;TZID=Europe/Paris:20250613T170000
DTEND;TZID=Europe/Paris:20250614T000000
DTSTAMP:20260420T185607
CREATED:20250602T144634Z
LAST-MODIFIED:20250613T093706Z
UID:10002837-1749834000-1749859200@www.ville-andelys.fr
SUMMARY:Les terrasses de l’été aux Andelys
DESCRIPTION:Ambiance latino aux Andelys ! \nFamilles\, ados\, jeunes\, danseurs amateurs ou confirmés\, venez-vous ambiancer aux terrasses de l’été\, les samedis 13 juin\, 4 juillet et 22 août 2025 ! \nFlash mob\, initiation danse\, soirée festive avec DJ de 17h00 à minuit place Nicolas Poussin. \n\nGratuit et sans inscription\n\nProgramme complet
URL:https://www.ville-andelys.fr/evenement/les-terrasses-de-lete-aux-andelys-2/2025-06-13/
LOCATION:Place Nicolas Poussin\, place Nicolas Poussin\, Les Andelys\, Eure\, 27700\, France
CATEGORIES:Commerçant,Loisirs,Santé,Sortie famille,Sport
ATTACH;FMTTYPE=image/jpeg:https://www.ville-andelys.fr/wp-content/uploads/Affiche-Les-terrasses-dete-2025-scaled.jpg
ORGANIZER;CN="Ville des Andelys":MAILTO:contact@ville-andelys.fr
END:VEVENT
END:VCALENDAR