BEGIN:VCALENDAR
VERSION:2.0
PRODID:-//Ville Des Andelys - ECPv6.15.20//NONSGML v1.0//EN
CALSCALE:GREGORIAN
METHOD:PUBLISH
X-ORIGINAL-URL:https://www.ville-andelys.fr
X-WR-CALDESC:Évènements pour Ville Des Andelys
REFRESH-INTERVAL;VALUE=DURATION:PT1H
X-Robots-Tag:noindex
X-PUBLISHED-TTL:PT1H
BEGIN:VTIMEZONE
TZID:Europe/Paris
BEGIN:DAYLIGHT
TZOFFSETFROM:+0100
TZOFFSETTO:+0200
TZNAME:CEST
DTSTART:20240331T010000
END:DAYLIGHT
BEGIN:STANDARD
TZOFFSETFROM:+0200
TZOFFSETTO:+0100
TZNAME:CET
DTSTART:20241027T010000
END:STANDARD
BEGIN:DAYLIGHT
TZOFFSETFROM:+0100
TZOFFSETTO:+0200
TZNAME:CEST
DTSTART:20250330T010000
END:DAYLIGHT
BEGIN:STANDARD
TZOFFSETFROM:+0200
TZOFFSETTO:+0100
TZNAME:CET
DTSTART:20251026T010000
END:STANDARD
BEGIN:DAYLIGHT
TZOFFSETFROM:+0100
TZOFFSETTO:+0200
TZNAME:CEST
DTSTART:20260329T010000
END:DAYLIGHT
BEGIN:STANDARD
TZOFFSETFROM:+0200
TZOFFSETTO:+0100
TZNAME:CET
DTSTART:20261025T010000
END:STANDARD
END:VTIMEZONE
BEGIN:VEVENT
DTSTART;TZID=Europe/Paris:20250802T140000
DTEND;TZID=Europe/Paris:20250811T010000
DTSTAMP:20260420T161614
CREATED:20250708T090929Z
LAST-MODIFIED:20250805T083814Z
UID:10002866-1754143200-1754874000@www.ville-andelys.fr
SUMMARY:Fête Saint-Sauveur
DESCRIPTION:Du 02 au 10 août\, le Comité animation de la Saint Sauveur organise la traditionnelle fête foraine sur les quais de Seine au Petit Andely ! \nManèges\, marché nocturne\, artisanal et local\, tombola\, feu d’artifice\, parade brésilienne\, mascottes\, podium chantant\, barbes à papa\, chichis… \nRendez-vous le 02 août à 14h30 pour l’inauguration \nÉvénement ! Passe Partout sera présent samedi 9 août de 15h00 à 18h00 ! \nHoraires d’ouverture : de 14h00 à 00h00 \n(fermeture à 1h00 lundi 11 août) \nProgramme complet
URL:https://www.ville-andelys.fr/evenement/fete-saint-sauveur/
LOCATION:Quai Grimoult\, bords de Seine\, Quai de Seine\, Les Andelys\, Eure\, 27700\, France
CATEGORIES:Jeunesse,Loisirs,Sortie famille
ATTACH;FMTTYPE=image/jpeg:https://www.ville-andelys.fr/wp-content/uploads/fete-Saint-Sauveur-2025-scaled.jpg
END:VEVENT
END:VCALENDAR