BEGIN:VCALENDAR
VERSION:2.0
PRODID:-//Ville Des Andelys - ECPv6.15.20//NONSGML v1.0//EN
CALSCALE:GREGORIAN
METHOD:PUBLISH
X-ORIGINAL-URL:https://www.ville-andelys.fr
X-WR-CALDESC:Évènements pour Ville Des Andelys
REFRESH-INTERVAL;VALUE=DURATION:PT1H
X-Robots-Tag:noindex
X-PUBLISHED-TTL:PT1H
BEGIN:VTIMEZONE
TZID:Europe/Paris
BEGIN:DAYLIGHT
TZOFFSETFROM:+0100
TZOFFSETTO:+0200
TZNAME:CEST
DTSTART:20240331T010000
END:DAYLIGHT
BEGIN:STANDARD
TZOFFSETFROM:+0200
TZOFFSETTO:+0100
TZNAME:CET
DTSTART:20241027T010000
END:STANDARD
BEGIN:DAYLIGHT
TZOFFSETFROM:+0100
TZOFFSETTO:+0200
TZNAME:CEST
DTSTART:20250330T010000
END:DAYLIGHT
BEGIN:STANDARD
TZOFFSETFROM:+0200
TZOFFSETTO:+0100
TZNAME:CET
DTSTART:20251026T010000
END:STANDARD
BEGIN:DAYLIGHT
TZOFFSETFROM:+0100
TZOFFSETTO:+0200
TZNAME:CEST
DTSTART:20260329T010000
END:DAYLIGHT
BEGIN:STANDARD
TZOFFSETFROM:+0200
TZOFFSETTO:+0100
TZNAME:CET
DTSTART:20261025T010000
END:STANDARD
END:VTIMEZONE
BEGIN:VEVENT
DTSTART;VALUE=DATE:20250829
DTEND;VALUE=DATE:20250906
DTSTAMP:20260420T150505
CREATED:20250728T150725Z
LAST-MODIFIED:20250728T150725Z
UID:10002880-1756425600-1757116799@www.ville-andelys.fr
SUMMARY:Ramassage des encombrants
DESCRIPTION:Ils viennent directement chez vous ! \nLa Ville des Andelys lance une collecte d’encombrants sur rendez-vous en collaboration avec la Ressourcerie l’Abri. Dans une démarche d’écoresponsabilité et de préservation de l’environnement\, mais également de soutien aux administrés ne pouvant se déplacer à la déchèterie\, la Municipalité propose un service de collecte d’encombrants à domicile du vendredi 29 août au vendredi 05 septembre. \nToutes les infos.
URL:https://www.ville-andelys.fr/evenement/ramassage-des-encombrants-2/
LOCATION:Ville les Andelys\, Les Andelys\, Eure\, 27700\, France
CATEGORIES:Environnement
ATTACH;FMTTYPE=image/jpeg:https://www.ville-andelys.fr/wp-content/uploads/Affiche-29.08-05.09.jpg
ORGANIZER;CN="Association %3A Ressourcerie l'Abri":MAILTO:ressourcerie.lesandelys@abriasso.org
END:VEVENT
BEGIN:VEVENT
DTSTART;TZID=Europe/Paris:20250905T140000
DTEND;TZID=Europe/Paris:20250905T160000
DTSTAMP:20260420T150505
CREATED:20250211T134537Z
LAST-MODIFIED:20250211T140237Z
UID:10002347-1757080800-1757088000@www.ville-andelys.fr
SUMMARY:Ateliers numériques
DESCRIPTION:Ensemble rendons le numérique accessible à tous ! \nToutes les deux semaines\, le vendredi de 14h00 à 16h00\, venez participer aux ateliers numériques pour l’apprentissage et l’accompagnement dans l’utilisation des outils numériques. \n\nGratuit\, ouvert à tous\n\nInscription au 06 80 52 50 15 / q.coinon@ville-andelys.fr
URL:https://www.ville-andelys.fr/evenement/ateliers-numeriques/2025-09-05/
LOCATION:Résidence autonomie Les Petits Près\, Rue Flavigny\, Espace Christiane Hamard\, Les Andelys\, 27700
CATEGORIES:Loisirs,Solidarité,Vie citoyenne
ATTACH;FMTTYPE=image/jpeg:https://www.ville-andelys.fr/wp-content/uploads/Ateliers-numeriques-FS-scaled.jpg
ORGANIZER;CN="France services":MAILTO:franceservices@ville-andelys.fr
GEO:49.2463472;1.4053906
X-APPLE-STRUCTURED-LOCATION;VALUE=URI;X-ADDRESS=Résidence autonomie Les Petits Près Rue Flavigny Espace Christiane Hamard Les Andelys 27700;X-APPLE-RADIUS=500;X-TITLE=Rue Flavigny\, Espace Christiane Hamard:geo:1.4053906,49.2463472
END:VEVENT
END:VCALENDAR