BEGIN:VCALENDAR
VERSION:2.0
PRODID:-//Ville Des Andelys - ECPv6.15.20//NONSGML v1.0//EN
CALSCALE:GREGORIAN
METHOD:PUBLISH
X-ORIGINAL-URL:https://www.ville-andelys.fr
X-WR-CALDESC:Évènements pour Ville Des Andelys
REFRESH-INTERVAL;VALUE=DURATION:PT1H
X-Robots-Tag:noindex
X-PUBLISHED-TTL:PT1H
BEGIN:VTIMEZONE
TZID:Europe/Paris
BEGIN:DAYLIGHT
TZOFFSETFROM:+0100
TZOFFSETTO:+0200
TZNAME:CEST
DTSTART:20240331T010000
END:DAYLIGHT
BEGIN:STANDARD
TZOFFSETFROM:+0200
TZOFFSETTO:+0100
TZNAME:CET
DTSTART:20241027T010000
END:STANDARD
BEGIN:DAYLIGHT
TZOFFSETFROM:+0100
TZOFFSETTO:+0200
TZNAME:CEST
DTSTART:20250330T010000
END:DAYLIGHT
BEGIN:STANDARD
TZOFFSETFROM:+0200
TZOFFSETTO:+0100
TZNAME:CET
DTSTART:20251026T010000
END:STANDARD
BEGIN:DAYLIGHT
TZOFFSETFROM:+0100
TZOFFSETTO:+0200
TZNAME:CEST
DTSTART:20260329T010000
END:DAYLIGHT
BEGIN:STANDARD
TZOFFSETFROM:+0200
TZOFFSETTO:+0100
TZNAME:CET
DTSTART:20261025T010000
END:STANDARD
END:VTIMEZONE
BEGIN:VEVENT
DTSTART;TZID=Europe/Paris:20250925T100000
DTEND;TZID=Europe/Paris:20250925T110000
DTSTAMP:20260420T150520
CREATED:20250709T130953Z
LAST-MODIFIED:20250903T094002Z
UID:10002870-1758794400-1758798000@www.ville-andelys.fr
SUMMARY:Temps parents-bébés
DESCRIPTION:Le Centre social des Andelys vous propose jeudi 25 septembre\, un temps massage bien-être du bébé de 10h00 à 11h00 à la Maison de la Famille et des Solidarités. \nInscription auprès d’Émilie Morel\, référente Famille : 06 60 76 04 16 / centresocial@ville-andelys.fr \nProgramme de juillet à novembre 2025
URL:https://www.ville-andelys.fr/evenement/temps-parents-bebes-4/
LOCATION:Maison de la Famille et des Solidarités\, Rue des Oiseaux\, Les Andelys\, Eure\, 27700\, France
CATEGORIES:Jeunesse,Loisirs,Solidarité
ATTACH;FMTTYPE=image/jpeg:https://www.ville-andelys.fr/wp-content/uploads/parent-bebe-scaled.jpg
ORGANIZER;CN="Centre social des Andelys":MAILTO:centresocial@ville-andelys.fr
GEO:49.2460895;1.4181155
X-APPLE-STRUCTURED-LOCATION;VALUE=URI;X-ADDRESS=Maison de la Famille et des Solidarités Rue des Oiseaux Les Andelys Eure 27700 France;X-APPLE-RADIUS=500;X-TITLE=Rue des Oiseaux:geo:1.4181155,49.2460895
END:VEVENT
BEGIN:VEVENT
DTSTART;TZID=Europe/Paris:20250925T140000
DTEND;TZID=Europe/Paris:20250925T160000
DTSTAMP:20260420T150520
CREATED:20250909T141126Z
LAST-MODIFIED:20250909T141126Z
UID:10002889-1758808800-1758816000@www.ville-andelys.fr
SUMMARY:Bienvenue à la retraite
DESCRIPTION:Futures ou jeunes retraitée\, profitez d’un atelier collectif et gratuit de 7 séances pour vivre une retraite sereine et active ! \nLa CARSAT de Normandie vous donne rdv pour la 1ʳᵉ Séance\, le jeudi 25 septembre 2025 à la Maison de la Famille et des Solidarités (rue des Oiseaux\, 27700 Les Andelys) \nGratuit – Inscription au 02 32 54 75 63 \nPlus de renseignement : 09 80 80 43 15 / contact@retraite-neosilver.fr \nLe programme complet
URL:https://www.ville-andelys.fr/evenement/bienvenue-a-la-retraite/2025-09-25/
LOCATION:Maison de la Famille et des Solidarités\, Rue des Oiseaux\, Les Andelys\, Eure\, 27700\, France
CATEGORIES:Solidarité
ATTACH;FMTTYPE=image/jpeg:https://www.ville-andelys.fr/wp-content/uploads/BAR-2-2025-Les-Andelys-CARSAT-Normandie_Page_1.jpg
GEO:49.2460895;1.4181155
X-APPLE-STRUCTURED-LOCATION;VALUE=URI;X-ADDRESS=Maison de la Famille et des Solidarités Rue des Oiseaux Les Andelys Eure 27700 France;X-APPLE-RADIUS=500;X-TITLE=Rue des Oiseaux:geo:1.4181155,49.2460895
END:VEVENT
BEGIN:VEVENT
DTSTART;TZID=Europe/Paris:20250925T140000
DTEND;TZID=Europe/Paris:20250925T170000
DTSTAMP:20260420T150520
CREATED:20250923T164636Z
LAST-MODIFIED:20250923T164636Z
UID:10003206-1758808800-1758819600@www.ville-andelys.fr
SUMMARY:Atelier informatique Fablab
DESCRIPTION:Traquât informatique ? Un atelier pour mieux comprendre\, poser ses questions et gagner en autonomie sur votre ordinateur. \nL’association les ateliers partagés Fablab vous donne rendez-vous le jeudi 25 septembre de 14h00 à 17h00 au Pôle Solidaire. \n\nGratuit et ouvert à tous\n\nInformations et inscription : fablab.al.andelys@free.fr
URL:https://www.ville-andelys.fr/evenement/atelier-informatique/
LOCATION:Pôle Solidaire\, 45 bis Av de la République\, Les Andelys\, Eure\, 27700\, France
CATEGORIES:Solidarité
ATTACH;FMTTYPE=image/jpeg:https://www.ville-andelys.fr/wp-content/uploads/Affiche-Tracat-informatique-2025-09-1_page-0001.jpg
ORGANIZER;CN="Association %3A Amicale La%C3%AFque du secteur des Andelys":MAILTO:al.andelys@free.fr
END:VEVENT
BEGIN:VEVENT
DTSTART;TZID=Europe/Paris:20250925T140000
DTEND;TZID=Europe/Paris:20250925T170000
DTSTAMP:20260420T150520
CREATED:20250924T134016Z
LAST-MODIFIED:20250924T134016Z
UID:10003991-1758808800-1758819600@www.ville-andelys.fr
SUMMARY:Atelier couture
DESCRIPTION:Donnez vie à vos idées : découvrez\, créez et réparez en couture et tricot ! \nLe Centre social des Andelys vous propose un atelier couture\, tous les jeudis de 14h00 à 17h00 à la Résidence autonomie Les Petits Prés (rue Flavigny). \nInscription auprès de Muriel LEMAY\, animatrice de la vie sociale : 06 70 85 50 40 / 02 32 54 75 63 / m.lemay@ville-andelys.fr \n\nCotisation annuelle : 12€
URL:https://www.ville-andelys.fr/evenement/atelier-couture-2/2025-09-25/
LOCATION:Résidence autonomie Les Petits Près\, Rue Flavigny\, Espace Christiane Hamard\, Les Andelys\, 27700
CATEGORIES:Loisirs,Solidarité
ATTACH;FMTTYPE=image/jpeg:https://www.ville-andelys.fr/wp-content/uploads/couture-cenytre-social-scaled.jpg
ORGANIZER;CN="Centre social des Andelys":MAILTO:centresocial@ville-andelys.fr
GEO:49.2463472;1.4053906
X-APPLE-STRUCTURED-LOCATION;VALUE=URI;X-ADDRESS=Résidence autonomie Les Petits Près Rue Flavigny Espace Christiane Hamard Les Andelys 27700;X-APPLE-RADIUS=500;X-TITLE=Rue Flavigny\, Espace Christiane Hamard:geo:1.4053906,49.2463472
END:VEVENT
END:VCALENDAR