BEGIN:VCALENDAR
VERSION:2.0
PRODID:-//Ville Des Andelys - ECPv6.15.20//NONSGML v1.0//EN
CALSCALE:GREGORIAN
METHOD:PUBLISH
X-WR-CALNAME:Ville Des Andelys
X-ORIGINAL-URL:https://www.ville-andelys.fr
X-WR-CALDESC:Évènements pour Ville Des Andelys
REFRESH-INTERVAL;VALUE=DURATION:PT1H
X-Robots-Tag:noindex
X-PUBLISHED-TTL:PT1H
BEGIN:VTIMEZONE
TZID:Europe/Paris
BEGIN:DAYLIGHT
TZOFFSETFROM:+0100
TZOFFSETTO:+0200
TZNAME:CEST
DTSTART:20240331T010000
END:DAYLIGHT
BEGIN:STANDARD
TZOFFSETFROM:+0200
TZOFFSETTO:+0100
TZNAME:CET
DTSTART:20241027T010000
END:STANDARD
BEGIN:DAYLIGHT
TZOFFSETFROM:+0100
TZOFFSETTO:+0200
TZNAME:CEST
DTSTART:20250330T010000
END:DAYLIGHT
BEGIN:STANDARD
TZOFFSETFROM:+0200
TZOFFSETTO:+0100
TZNAME:CET
DTSTART:20251026T010000
END:STANDARD
BEGIN:DAYLIGHT
TZOFFSETFROM:+0100
TZOFFSETTO:+0200
TZNAME:CEST
DTSTART:20260329T010000
END:DAYLIGHT
BEGIN:STANDARD
TZOFFSETFROM:+0200
TZOFFSETTO:+0100
TZNAME:CET
DTSTART:20261025T010000
END:STANDARD
END:VTIMEZONE
BEGIN:VEVENT
DTSTART;TZID=Europe/Paris:20251004T080000
DTEND;TZID=Europe/Paris:20251004T130000
DTSTAMP:20260420T150213
CREATED:20250911T093210Z
LAST-MODIFIED:20250911T093210Z
UID:10002934-1759564800-1759582800@www.ville-andelys.fr
SUMMARY:Marché hebdomadaire des Andelys
DESCRIPTION:Le marché hebdomadaire des Andelys se déroule tous les samedis matin sur la place Nicolas Poussin\, située en cœur de ville. La place qui a récemment été réaménagé\, vous offrira un cadre agréable et chaleureux\, mais également sécurisé et accessible pour effectuer votre marché. \nVous pourrez acheter des produits frais et des spécialités locales dans les nombreux stands présents : fruits et légumes frais\, pain\, viennoiseries\, fromage\, vin\, liqueur\, huile\, miel\, biscuits\, viande\, charcuterie\, poisson\, fleurs\, vêtements\, artisanat… \nPour toute question ou souhait de bénéficier d’un espace de vente\, contactez-nous.
URL:https://www.ville-andelys.fr/evenement/marche-hebdomadaire-des-andelys/2025-10-04/
LOCATION:Place Nicolas Poussin\, place Nicolas Poussin\, Les Andelys\, Eure\, 27700\, France
CATEGORIES:Sortie famille
ATTACH;FMTTYPE=image/jpeg:https://www.ville-andelys.fr/wp-content/uploads/marche.jpg
ORGANIZER;CN="Ville des Andelys":MAILTO:contact@ville-andelys.fr
END:VEVENT
BEGIN:VEVENT
DTSTART;TZID=Europe/Paris:20251004T100000
DTEND;TZID=Europe/Paris:20251004T110000
DTSTAMP:20260420T150213
CREATED:20250925T093847Z
LAST-MODIFIED:20250925T102102Z
UID:10004779-1759572000-1759575600@www.ville-andelys.fr
SUMMARY:Sophrologie - ateliers bien-être
DESCRIPTION:Une pause pour recharger le corps et l’esprit \nLe Centre social des Andelys vous propose des ateliers bien-être\, les samedis 27 septembre\, 04 et 18 octobre de 10h00 à 11h00 dans le jardin de l’espace Clotilde (3-5 rue Sainte Clotilde). \nInscription auprès de Muriel LEMAY\, animatrice de la vie sociale : 06 70 85 50 40 / 02 32 54 75 63 / m.lemay@ville-andelys.fr \n\nGratuit
URL:https://www.ville-andelys.fr/evenement/sophrologie-ateliers-bien-etre/2025-10-04/
LOCATION:Jardin de l’Espace Clotilde\, 3-5 rue Sainte Clotilde\, Les Andelys\, Eure\, 27700\, France
CATEGORIES:Loisirs,Solidarité
ATTACH;FMTTYPE=image/jpeg:https://www.ville-andelys.fr/wp-content/uploads/sophrologie-cs-scaled.jpg
ORGANIZER;CN="Centre social des Andelys":MAILTO:centresocial@ville-andelys.fr
END:VEVENT
BEGIN:VEVENT
DTSTART;TZID=Europe/Paris:20251004T140000
DTEND;TZID=Europe/Paris:20251004T170000
DTSTAMP:20260420T150213
CREATED:20250923T164002Z
LAST-MODIFIED:20250923T164002Z
UID:10003205-1759586400-1759597200@www.ville-andelys.fr
SUMMARY:L'après-midi réparartion
DESCRIPTION:Vous avez un appareil en panne ? Vous voulez le réparer\, mais vous ne savez pas comment faire ? Vous savez réparer un bidule ? \nVenez à l’après-midi réparation\, samedi 04 octobre de 14h00 à 17h00 au Pôle Solidaire \n\nGratuit et ouvert à tous\n\nInscription souhaitée : fablab.al.andelys@free.fr \nL’après-midi réparation ne vous garantit pas de repartir avec un appareil réparé\, mais d’avoir fait le maximum pour atteindre cet objectif.
URL:https://www.ville-andelys.fr/evenement/lapres-midi-reparartion-2/
LOCATION:Pôle Solidaire\, 45 bis Av de la République\, Les Andelys\, Eure\, 27700\, France
CATEGORIES:Solidarité
ATTACH;FMTTYPE=image/jpeg:https://www.ville-andelys.fr/wp-content/uploads/Affiche_Apres_Midi_Reparation_du_04_10_2025_page-0001.jpg
ORGANIZER;CN="Association %3A Amicale La%C3%AFque du secteur des Andelys":MAILTO:al.andelys@free.fr
END:VEVENT
END:VCALENDAR