BEGIN:VCALENDAR
VERSION:2.0
PRODID:-//Ville Des Andelys - ECPv6.15.20//NONSGML v1.0//EN
CALSCALE:GREGORIAN
METHOD:PUBLISH
X-ORIGINAL-URL:https://www.ville-andelys.fr
X-WR-CALDESC:Évènements pour Ville Des Andelys
REFRESH-INTERVAL;VALUE=DURATION:PT1H
X-Robots-Tag:noindex
X-PUBLISHED-TTL:PT1H
BEGIN:VTIMEZONE
TZID:Europe/Paris
BEGIN:DAYLIGHT
TZOFFSETFROM:+0100
TZOFFSETTO:+0200
TZNAME:CEST
DTSTART:20240331T010000
END:DAYLIGHT
BEGIN:STANDARD
TZOFFSETFROM:+0200
TZOFFSETTO:+0100
TZNAME:CET
DTSTART:20241027T010000
END:STANDARD
BEGIN:DAYLIGHT
TZOFFSETFROM:+0100
TZOFFSETTO:+0200
TZNAME:CEST
DTSTART:20250330T010000
END:DAYLIGHT
BEGIN:STANDARD
TZOFFSETFROM:+0200
TZOFFSETTO:+0100
TZNAME:CET
DTSTART:20251026T010000
END:STANDARD
BEGIN:DAYLIGHT
TZOFFSETFROM:+0100
TZOFFSETTO:+0200
TZNAME:CEST
DTSTART:20260329T010000
END:DAYLIGHT
BEGIN:STANDARD
TZOFFSETFROM:+0200
TZOFFSETTO:+0100
TZNAME:CET
DTSTART:20261025T010000
END:STANDARD
END:VTIMEZONE
BEGIN:VEVENT
DTSTART;VALUE=DATE:20251006
DTEND;VALUE=DATE:20251012
DTSTAMP:20260420T135050
CREATED:20250919T114312Z
LAST-MODIFIED:20250919T114357Z
UID:10003204-1759708800-1760227199@www.ville-andelys.fr
SUMMARY:La Semaine bleue 2025
DESCRIPTION:La Ville des Andelys s’associe à la Semaine Bleue consacrée aux retraités et aux personnes âgées\, qui se tiendra du lundi 6 au dimanche 11 octobre. Cette semaine d’animations participe activement à la lutte contre l’exclusion et l’isolement des aînés\, tout en favorisant les échanges entre générations. \nPlacée sous le thème national « Vieillir\, une force à partager »\, avec pour devise « Les aînés\, nous avons besoin d’eux\, ils ont besoin de nous »\, l’édition 2025 met en lumière la richesse des liens intergénérationnels et la valeur de l’expérience des personnes âgées dans notre société. \nAu programme\, différentes activités accessibles aux seniors comme au grand public viendront rythmer cette semaine conviviale et solidaire. \nTélécharger le programme
URL:https://www.ville-andelys.fr/evenement/la-semaine-bleue-2025/
LOCATION:Ville les Andelys\, Les Andelys\, Eure\, 27700\, France
CATEGORIES:Solidarité
ATTACH;FMTTYPE=image/jpeg:https://www.ville-andelys.fr/wp-content/uploads/Affiche-Semaine-bleue-2025-scaled.jpg
ORGANIZER;CN="CCAS des Andelys":MAILTO:ccas@ville-andelys.fr
END:VEVENT
BEGIN:VEVENT
DTSTART;TZID=Europe/Paris:20251007T140000
DTEND;TZID=Europe/Paris:20251007T170000
DTSTAMP:20260420T135050
CREATED:20250924T130647Z
LAST-MODIFIED:20250924T132731Z
UID:10003209-1759845600-1759856400@www.ville-andelys.fr
SUMMARY:Atelier cuisine
DESCRIPTION:Venez éveiller vos papilles et vos talents : découvrez de nouvelles recettes et techniques de cuisine ! \nLe Centre social des Andelys vous propose un atelier cuisine\, tous les mardis de 14h00 à 17h00 à la Résidence autonomie Les Petits Prés (rue Flavigny). \nInscription auprès de Muriel LEMAY\, animatrice de la vie sociale : 06 70 85 50 40 / 02 32 54 75 63 / m.lemay@ville-andelys.fr \n\nCotisation annuelle : 12€\n\n 
URL:https://www.ville-andelys.fr/evenement/atelier-cuisine/2025-10-07/
LOCATION:Résidence autonomie Les Petits Près\, Rue Flavigny\, Espace Christiane Hamard\, Les Andelys\, 27700
CATEGORIES:Jeunesse,Loisirs,Solidarité
ATTACH;FMTTYPE=image/jpeg:https://www.ville-andelys.fr/wp-content/uploads/Atelier-cuisine-Centre-social-scaled.jpg
ORGANIZER;CN="Centre social des Andelys":MAILTO:centresocial@ville-andelys.fr
GEO:49.2463472;1.4053906
X-APPLE-STRUCTURED-LOCATION;VALUE=URI;X-ADDRESS=Résidence autonomie Les Petits Près Rue Flavigny Espace Christiane Hamard Les Andelys 27700;X-APPLE-RADIUS=500;X-TITLE=Rue Flavigny\, Espace Christiane Hamard:geo:1.4053906,49.2463472
END:VEVENT
BEGIN:VEVENT
DTSTART;TZID=Europe/Paris:20251007T170000
DTEND;TZID=Europe/Paris:20251007T190000
DTSTAMP:20260420T135050
CREATED:20250527T151024Z
LAST-MODIFIED:20250527T151159Z
UID:10002624-1759856400-1759863600@www.ville-andelys.fr
SUMMARY:La rencontre des aidants
DESCRIPTION:Vous accompagnez une personne âgée (conjoint\, parent\, ami\, voisin…) ? \nVenez participer à des rencontres animées par une psychologue et le Clic Est. Ensemble\, préservons une relation bienveillante. \nPour tout renseignement\, veuillez vous rapprocher du CLIC : clic-est@eure.fr/02 32 71 24 73 \nParticipation libre
URL:https://www.ville-andelys.fr/evenement/la-rencontre-des-aidants/2025-10-07/
LOCATION:Le QG\, 47 bis\, rue Marcel Lefèvre\, Les Andelys\, Eure\, 27700\, France
CATEGORIES:Solidarité
ATTACH;FMTTYPE=image/jpeg:https://www.ville-andelys.fr/wp-content/uploads/RencontreDesAidants_Page_1.jpg
END:VEVENT
END:VCALENDAR