BEGIN:VCALENDAR
VERSION:2.0
PRODID:-//Ville Des Andelys - ECPv6.15.20//NONSGML v1.0//EN
CALSCALE:GREGORIAN
METHOD:PUBLISH
X-ORIGINAL-URL:https://www.ville-andelys.fr
X-WR-CALDESC:Évènements pour Ville Des Andelys
REFRESH-INTERVAL;VALUE=DURATION:PT1H
X-Robots-Tag:noindex
X-PUBLISHED-TTL:PT1H
BEGIN:VTIMEZONE
TZID:Europe/Paris
BEGIN:DAYLIGHT
TZOFFSETFROM:+0100
TZOFFSETTO:+0200
TZNAME:CEST
DTSTART:20240331T010000
END:DAYLIGHT
BEGIN:STANDARD
TZOFFSETFROM:+0200
TZOFFSETTO:+0100
TZNAME:CET
DTSTART:20241027T010000
END:STANDARD
BEGIN:DAYLIGHT
TZOFFSETFROM:+0100
TZOFFSETTO:+0200
TZNAME:CEST
DTSTART:20250330T010000
END:DAYLIGHT
BEGIN:STANDARD
TZOFFSETFROM:+0200
TZOFFSETTO:+0100
TZNAME:CET
DTSTART:20251026T010000
END:STANDARD
BEGIN:DAYLIGHT
TZOFFSETFROM:+0100
TZOFFSETTO:+0200
TZNAME:CEST
DTSTART:20260329T010000
END:DAYLIGHT
BEGIN:STANDARD
TZOFFSETFROM:+0200
TZOFFSETTO:+0100
TZNAME:CET
DTSTART:20261025T010000
END:STANDARD
END:VTIMEZONE
BEGIN:VEVENT
DTSTART;VALUE=DATE:20251020
DTEND;VALUE=DATE:20251025
DTSTAMP:20260420T135130
CREATED:20251003T154516Z
LAST-MODIFIED:20251003T154516Z
UID:10004790-1760918400-1761350399@www.ville-andelys.fr
SUMMARY:La Semaine Bretonne
DESCRIPTION:Vous avez choisi la Bretagne ! C’est avec un grand plaisir que le Centre social des Andelys va mettre à l’honneur cette magnifique région et sa culture. \nDu lundi 20 au vendredi 24 octobre\, venez découvrir la Bretagne à travers de nombreuses animations : fête traditionnelle\, danse\, cuisine\, soirée jeux\, joutes bretonnes\, contes et légendes… \nTélécharger le programme ici \nInscription auprès du Centre social des Andelys par téléphone au 02 32 54 75 63\, par mail à centresocial@ville-andelys.fr ou directement à la Maison de la Famille et des Solidarités.
URL:https://www.ville-andelys.fr/evenement/la-semaine-bretonne/
LOCATION:Les Andelys\, Les Andelys\, Eure\, 27700\, France
CATEGORIES:Culturel,Loisirs,Solidarité,Sortie famille,Spectacle
ATTACH;FMTTYPE=image/jpeg:https://www.ville-andelys.fr/wp-content/uploads/Affiche-Bretagne-scaled.jpg
ORGANIZER;CN="Centre social des Andelys":MAILTO:centresocial@ville-andelys.fr
END:VEVENT
BEGIN:VEVENT
DTSTART;TZID=Europe/Paris:20251023T140000
DTEND;TZID=Europe/Paris:20251023T170000
DTSTAMP:20260420T135130
CREATED:20250924T134016Z
LAST-MODIFIED:20250924T134016Z
UID:10003995-1761228000-1761238800@www.ville-andelys.fr
SUMMARY:Atelier couture
DESCRIPTION:Donnez vie à vos idées : découvrez\, créez et réparez en couture et tricot ! \nLe Centre social des Andelys vous propose un atelier couture\, tous les jeudis de 14h00 à 17h00 à la Résidence autonomie Les Petits Prés (rue Flavigny). \nInscription auprès de Muriel LEMAY\, animatrice de la vie sociale : 06 70 85 50 40 / 02 32 54 75 63 / m.lemay@ville-andelys.fr \n\nCotisation annuelle : 12€
URL:https://www.ville-andelys.fr/evenement/atelier-couture-2/2025-10-23/
LOCATION:Résidence autonomie Les Petits Près\, Rue Flavigny\, Espace Christiane Hamard\, Les Andelys\, 27700
CATEGORIES:Loisirs,Solidarité
ATTACH;FMTTYPE=image/jpeg:https://www.ville-andelys.fr/wp-content/uploads/couture-cenytre-social-scaled.jpg
ORGANIZER;CN="Centre social des Andelys":MAILTO:centresocial@ville-andelys.fr
GEO:49.2463472;1.4053906
X-APPLE-STRUCTURED-LOCATION;VALUE=URI;X-ADDRESS=Résidence autonomie Les Petits Près Rue Flavigny Espace Christiane Hamard Les Andelys 27700;X-APPLE-RADIUS=500;X-TITLE=Rue Flavigny\, Espace Christiane Hamard:geo:1.4053906,49.2463472
END:VEVENT
END:VCALENDAR