BEGIN:VCALENDAR
VERSION:2.0
PRODID:-//Ville Des Andelys - ECPv6.15.20//NONSGML v1.0//EN
CALSCALE:GREGORIAN
METHOD:PUBLISH
X-ORIGINAL-URL:https://www.ville-andelys.fr
X-WR-CALDESC:Évènements pour Ville Des Andelys
REFRESH-INTERVAL;VALUE=DURATION:PT1H
X-Robots-Tag:noindex
X-PUBLISHED-TTL:PT1H
BEGIN:VTIMEZONE
TZID:Europe/Paris
BEGIN:DAYLIGHT
TZOFFSETFROM:+0100
TZOFFSETTO:+0200
TZNAME:CEST
DTSTART:20240331T010000
END:DAYLIGHT
BEGIN:STANDARD
TZOFFSETFROM:+0200
TZOFFSETTO:+0100
TZNAME:CET
DTSTART:20241027T010000
END:STANDARD
BEGIN:DAYLIGHT
TZOFFSETFROM:+0100
TZOFFSETTO:+0200
TZNAME:CEST
DTSTART:20250330T010000
END:DAYLIGHT
BEGIN:STANDARD
TZOFFSETFROM:+0200
TZOFFSETTO:+0100
TZNAME:CET
DTSTART:20251026T010000
END:STANDARD
BEGIN:DAYLIGHT
TZOFFSETFROM:+0100
TZOFFSETTO:+0200
TZNAME:CEST
DTSTART:20260329T010000
END:DAYLIGHT
BEGIN:STANDARD
TZOFFSETFROM:+0200
TZOFFSETTO:+0100
TZNAME:CET
DTSTART:20261025T010000
END:STANDARD
END:VTIMEZONE
BEGIN:VEVENT
DTSTART;TZID=Europe/Paris:20251026T093000
DTEND;TZID=Europe/Paris:20251026T120000
DTSTAMP:20260420T150419
CREATED:20250526T084056Z
LAST-MODIFIED:20250526T084313Z
UID:10002561-1761471000-1761480000@www.ville-andelys.fr
SUMMARY:Rassemblement des véhicules anciens
DESCRIPTION:Rassemblement convivial de véhicules anciens \nOrganisé par Les Vieilles Gaillardes\, ce rassemblement s’adresse à tous les passionnés de véhicules anciens. \nL’événement est ouvert à tous\, sans inscription préalable. Les exposants peuvent venir librement entre 09h30 et 12h00\, et repartir à leur convenance. L’exposition est entièrement gratuite\, aussi bien pour les participants que pour les visiteurs. \nCe rendez-vous a lieu chaque 4ᵉ dimanche du mois.
URL:https://www.ville-andelys.fr/evenement/rassemblement-des-vehicules-anciens/2025-10-26/
LOCATION:Bords de Seine\, Quai Grimoult\, Les Andelys\, Eure\, 27700
CATEGORIES:Exposition,Loisirs,Sortie famille
ATTACH;FMTTYPE=image/jpeg:https://www.ville-andelys.fr/wp-content/uploads/Screenshot_20250523_194253_Facebook.jpg
ORGANIZER;CN="Association %3A Les Vieilles Gaillardes":MAILTO:y.echard@gmail.com
GEO:49.246568;1.4192
X-APPLE-STRUCTURED-LOCATION;VALUE=URI;X-ADDRESS=Bords de Seine Quai Grimoult Les Andelys Eure 27700;X-APPLE-RADIUS=500;X-TITLE=Quai Grimoult:geo:1.4192,49.246568
END:VEVENT
BEGIN:VEVENT
DTSTART;TZID=Europe/Paris:20251026T100000
DTEND;TZID=Europe/Paris:20251026T183000
DTSTAMP:20260420T150419
CREATED:20251003T133151Z
LAST-MODIFIED:20251024T145732Z
UID:10004789-1761472800-1761503400@www.ville-andelys.fr
SUMMARY:Salon du livre des Andelys
DESCRIPTION:Le livre à l’honneur aux Andelys \nLa Direction de la Culture et du Patrimoine de la Ville vous donne rendez-vous pour le Salon du Livre des Andelys\, qui se tiendra le dimanche 26 octobre de 10h00 à 18h30\, en salle des fêtes des Andelys. \n36 auteurs et 5 cafés littéraires  \nCet événement littéraire\, ouvert à tous et en entrée libre\, rassemblera 35 auteurs d’horizons divers. Les passionnés de romans\, de biographies\, d’ouvrages d’histoire\, de livres pour la jeunesse\, de bandes dessinées pourront rencontrer et échanger avec différents auteurs\, romanciers\, historiens\, biographes\, journalistes\, réalisateur et scénariste… Ce salon sera l’occasion idéale de découvrir de nouvelles plumes\, de partager des moments privilégiés avec des écrivains et de célébrer le plaisir de lire. \nTout au long de la journée\, les visiteurs pourront également assister à des cafés littéraires riches et variés\, autour de thématiques passionnantes\, animés par des personnalités reconnues. \nProgramme et infos supplémentaires
URL:https://www.ville-andelys.fr/evenement/salon-du-livre-des-andelys/
LOCATION:Salle des Fêtes des Andelys\, 28\, avenue du Général de Gaulle\, Les Andelys\, Eure\, 27700\, France
CATEGORIES:Culturel,Loisirs,Sortie famille
ATTACH;FMTTYPE=image/jpeg:https://www.ville-andelys.fr/wp-content/uploads/Salon-du-livre-2025-scaled.jpg
ORGANIZER;CN="Direction Culture et Patrimoine de la Ville des Andelys":MAILTO:Culture@ville-andelys.fr
END:VEVENT
BEGIN:VEVENT
DTSTART;TZID=Europe/Paris:20251026T103000
DTEND;TZID=Europe/Paris:20251026T103000
DTSTAMP:20260420T150419
CREATED:20251022T143130Z
LAST-MODIFIED:20251022T143823Z
UID:10004995-1761474600-1761474600@www.ville-andelys.fr
SUMMARY:Visite famille - Les petits Gaillards
DESCRIPTION:Suivez une formation express pour devenir chevalier ! \nDe galopin à chevalier\, en passant par le page et l’écuyer\, les enfants vont créer leur nom de chevalier\, apprendre les bases de l’architecture du château\, découvrir le maniement de l’épée et enfin participer à une cérémonie d’adoubement. Une visite ludique et participative ! \nInformations pratiques : \n\nHoraire : tous les mercredis et dimanches des vacances scolaires à 10h30\nPublic : enfant de 5 à 7 ans\, obligatoirement accompagné d’un adulte\nTarif : 5€/7€. Le billet comprend 1 adulte accompagnateur (tout adulte accompagnateur supplémentaire doit prendre un billet entrée libre du même jour).\nLe chemin d’accès ayant un fort dénivelé\, équipez-vous : bonnes chaussures\, tenue adaptée à la saison et bouteille d’eau.\n\nRéserver votre/vos place(s)
URL:https://www.ville-andelys.fr/evenement/visite-famille-les-petits-gaillards/2025-10-26/
LOCATION:Château-Gaillard\, Les Andelys\, Eure\, 27700\, France
CATEGORIES:Culturel,Loisirs,Sortie famille,Spectacle
ATTACH;FMTTYPE=image/jpeg:https://www.ville-andelys.fr/wp-content/uploads/petits-gaillards-A3-scaled.jpg
ORGANIZER;CN="Office de tourisme - Nouvelle Normandie":MAILTO:information@tourisme.sna27.fr
END:VEVENT
BEGIN:VEVENT
DTSTART;TZID=Europe/Paris:20251026T150000
DTEND;TZID=Europe/Paris:20251026T150000
DTSTAMP:20260420T150419
CREATED:20251022T144231Z
LAST-MODIFIED:20251022T144748Z
UID:10005000-1761490800-1761490800@www.ville-andelys.fr
SUMMARY:Visite famille - Les Aventuriers du Médiéval
DESCRIPTION:Les Aventuriers du Médiéval : Saurez-vous relever le défi ?  \nPlongez en famille au cœur de l’histoire et devenez les nouveaux défenseurs de Château Gaillard ! Aux côtés du capitaine de la garnison\, testez votre ingéniosité à travers une série d’épreuves ludiques : jeux d’adresse\, énigmes et réflexions inspirés de l’histoire du château et du Moyen Âge. \nParcourez la forteresse\, de la haute cour à l’ouvrage avancé\, et démontrez votre sens de l’observation et votre esprit d’équipe. Serez-vous à la hauteur pour intégrer la prestigieuse garnison du château ? \n\nUn défi historique\, une aventure à ne pas manquer !\nUn parcours pour toute la famille\nUn jeu grandeur nature dans un site médiéval d’exception\n\nRejoignez l’aventure et prouvez votre valeur ! \nInformations pratiques : \n\nHoraire : tous les mercredis\, samedis et dimanches des vacances scolaires à 15h00\nTarifs : tarif réduit (5€ / 7€)\, plein tarif (7€ / 9€)\nCette activité est conseillée à partir de 8 ans. Présence d’un adulte participant et payant requise.\nLe chemin d’accès ayant un fort dénivelé\, équipez-vous : bonnes chaussures\, tenue adaptée à la saison et bouteille d’eau.\n\nRéserver votre/vos place(s)
URL:https://www.ville-andelys.fr/evenement/visite-famille-les-aventuriers-du-medieval/2025-10-26/
LOCATION:Château-Gaillard\, Les Andelys\, Eure\, 27700\, France
CATEGORIES:Culturel,Loisirs,Sortie famille,Spectacle
ATTACH;FMTTYPE=image/jpeg:https://www.ville-andelys.fr/wp-content/uploads/aventur-medieval-A3-2025-scaled.jpg
ORGANIZER;CN="Office de tourisme - Nouvelle Normandie":MAILTO:information@tourisme.sna27.fr
END:VEVENT
END:VCALENDAR