BEGIN:VCALENDAR
VERSION:2.0
PRODID:-//Ville Des Andelys - ECPv6.15.20//NONSGML v1.0//EN
CALSCALE:GREGORIAN
METHOD:PUBLISH
X-ORIGINAL-URL:https://www.ville-andelys.fr
X-WR-CALDESC:Évènements pour Ville Des Andelys
REFRESH-INTERVAL;VALUE=DURATION:PT1H
X-Robots-Tag:noindex
X-PUBLISHED-TTL:PT1H
BEGIN:VTIMEZONE
TZID:Europe/Paris
BEGIN:DAYLIGHT
TZOFFSETFROM:+0100
TZOFFSETTO:+0200
TZNAME:CEST
DTSTART:20240331T010000
END:DAYLIGHT
BEGIN:STANDARD
TZOFFSETFROM:+0200
TZOFFSETTO:+0100
TZNAME:CET
DTSTART:20241027T010000
END:STANDARD
BEGIN:DAYLIGHT
TZOFFSETFROM:+0100
TZOFFSETTO:+0200
TZNAME:CEST
DTSTART:20250330T010000
END:DAYLIGHT
BEGIN:STANDARD
TZOFFSETFROM:+0200
TZOFFSETTO:+0100
TZNAME:CET
DTSTART:20251026T010000
END:STANDARD
BEGIN:DAYLIGHT
TZOFFSETFROM:+0100
TZOFFSETTO:+0200
TZNAME:CEST
DTSTART:20260329T010000
END:DAYLIGHT
BEGIN:STANDARD
TZOFFSETFROM:+0200
TZOFFSETTO:+0100
TZNAME:CET
DTSTART:20261025T010000
END:STANDARD
END:VTIMEZONE
BEGIN:VEVENT
DTSTART;TZID=Europe/Paris:20251027T163000
DTEND;TZID=Europe/Paris:20251027T173000
DTSTAMP:20260420T135248
CREATED:20251023T131106Z
LAST-MODIFIED:20251024T130838Z
UID:10005160-1761582600-1761586200@www.ville-andelys.fr
SUMMARY:Visite guidée sur l’histoire de la ville
DESCRIPTION:« Si les Andelys m’étaient contés » \nDans le cadre des vacances scolaires de la Toussaint\, la Direction de la Culture et du Patrimoine vous propose une visite guidée sur l’histoire de la ville à travers les collections du musée. \nLundi 27 octobre à 16h30 au musée Nicolas Poussin (durée : 1h) \n\nGratuit et ouvert à tous\n\nInscriptions au 02 32 54 31 78 ou à musee.nicolaspoussin@ville-andelys.fr (places limitées)
URL:https://www.ville-andelys.fr/evenement/animations-culturelles-vacances-de-toussaint/
LOCATION:Musée Nicolas Poussin\, 2 rue Sainte-Clotilde\, Les Andelys\, Eure\, 27700\, France
CATEGORIES:Artistique,Culturel,Exposition,Loisirs,Patrimoine,Sortie famille
ATTACH;FMTTYPE=image/jpeg:https://www.ville-andelys.fr/wp-content/uploads/Vacances-scolaires-culture-visite-guidee-1-scaled.jpg
ORGANIZER;CN="Direction Culture et Patrimoine de la Ville des Andelys":MAILTO:Culture@ville-andelys.fr
GEO:49.24572;1.4201895
X-APPLE-STRUCTURED-LOCATION;VALUE=URI;X-ADDRESS=Musée Nicolas Poussin 2 rue Sainte-Clotilde Les Andelys Eure 27700 France;X-APPLE-RADIUS=500;X-TITLE=2 rue Sainte-Clotilde:geo:1.4201895,49.24572
END:VEVENT
BEGIN:VEVENT
DTSTART;TZID=Europe/Paris:20251027T180000
DTEND;TZID=Europe/Paris:20251027T210000
DTSTAMP:20260420T135248
CREATED:20251020T103039Z
LAST-MODIFIED:20251020T141635Z
UID:10004794-1761588000-1761598800@www.ville-andelys.fr
SUMMARY:Tournoi de foot en salle en famille
DESCRIPTION:Partager un moment sportif\, convivial et plein d’énergie en famille ! \nDans le cadre des animations sportives des vacances d’automne\, la Direction des sports de la Ville en partenariat avec le CSA Football\, vous proposent tournoi de foot en salle. \n\nLundi 27 et vendredi 31 octobre\nDe 18h à 21h\nGymnase H. Boyer\n\nÉquipes mixtes : 3 adultes plus 3 enfants \nPas d’équipe complète ? Pas de souci ! Venez à 17h30\, on vous aidera à rejoindre une équipe. \nInscription auprès de Johan Poisson\, Chargé de mission sports au 06 02 09 48 08 ou à j.poisson@ville-andelys.fr \nAutres activités proposées : \n\nAteliers de sports d’opposition\nSoirée tir à l’arc
URL:https://www.ville-andelys.fr/evenement/tournoi-de-foot-en-salle-en-famille/2025-10-27/
LOCATION:Gymnase Henri Boyer\, Rue Raymond Phelip\, Les Andelys\, Eure\, 27700\, France
CATEGORIES:Loisirs,Sport
ATTACH;FMTTYPE=image/jpeg:https://www.ville-andelys.fr/wp-content/uploads/foot-papa-et-son-fils-scaled.jpg
END:VEVENT
END:VCALENDAR