BEGIN:VCALENDAR
VERSION:2.0
PRODID:-//Ville Des Andelys - ECPv6.15.20//NONSGML v1.0//EN
CALSCALE:GREGORIAN
METHOD:PUBLISH
X-ORIGINAL-URL:https://www.ville-andelys.fr
X-WR-CALDESC:Évènements pour Ville Des Andelys
REFRESH-INTERVAL;VALUE=DURATION:PT1H
X-Robots-Tag:noindex
X-PUBLISHED-TTL:PT1H
BEGIN:VTIMEZONE
TZID:Europe/Paris
BEGIN:DAYLIGHT
TZOFFSETFROM:+0100
TZOFFSETTO:+0200
TZNAME:CEST
DTSTART:20240331T010000
END:DAYLIGHT
BEGIN:STANDARD
TZOFFSETFROM:+0200
TZOFFSETTO:+0100
TZNAME:CET
DTSTART:20241027T010000
END:STANDARD
BEGIN:DAYLIGHT
TZOFFSETFROM:+0100
TZOFFSETTO:+0200
TZNAME:CEST
DTSTART:20250330T010000
END:DAYLIGHT
BEGIN:STANDARD
TZOFFSETFROM:+0200
TZOFFSETTO:+0100
TZNAME:CET
DTSTART:20251026T010000
END:STANDARD
BEGIN:DAYLIGHT
TZOFFSETFROM:+0100
TZOFFSETTO:+0200
TZNAME:CEST
DTSTART:20260329T010000
END:DAYLIGHT
BEGIN:STANDARD
TZOFFSETFROM:+0200
TZOFFSETTO:+0100
TZNAME:CET
DTSTART:20261025T010000
END:STANDARD
END:VTIMEZONE
BEGIN:VEVENT
DTSTART;TZID=Europe/Paris:20251031T140000
DTEND;TZID=Europe/Paris:20251031T160000
DTSTAMP:20260420T122937
CREATED:20250211T134537Z
LAST-MODIFIED:20250211T140237Z
UID:10002351-1761919200-1761926400@www.ville-andelys.fr
SUMMARY:Ateliers numériques
DESCRIPTION:Ensemble rendons le numérique accessible à tous ! \nToutes les deux semaines\, le vendredi de 14h00 à 16h00\, venez participer aux ateliers numériques pour l’apprentissage et l’accompagnement dans l’utilisation des outils numériques. \n\nGratuit\, ouvert à tous\n\nInscription au 06 80 52 50 15 / q.coinon@ville-andelys.fr
URL:https://www.ville-andelys.fr/evenement/ateliers-numeriques/2025-10-31/
LOCATION:Résidence autonomie Les Petits Près\, Rue Flavigny\, Espace Christiane Hamard\, Les Andelys\, 27700
CATEGORIES:Loisirs,Solidarité,Vie citoyenne
ATTACH;FMTTYPE=image/jpeg:https://www.ville-andelys.fr/wp-content/uploads/Ateliers-numeriques-FS-scaled.jpg
ORGANIZER;CN="France services":MAILTO:franceservices@ville-andelys.fr
GEO:49.2463472;1.4053906
X-APPLE-STRUCTURED-LOCATION;VALUE=URI;X-ADDRESS=Résidence autonomie Les Petits Près Rue Flavigny Espace Christiane Hamard Les Andelys 27700;X-APPLE-RADIUS=500;X-TITLE=Rue Flavigny\, Espace Christiane Hamard:geo:1.4053906,49.2463472
END:VEVENT
BEGIN:VEVENT
DTSTART;TZID=Europe/Paris:20251031T150000
DTEND;TZID=Europe/Paris:20251031T210000
DTSTAMP:20260420T122937
CREATED:20251024T123425Z
LAST-MODIFIED:20251024T131612Z
UID:10005164-1761922800-1761944400@www.ville-andelys.fr
SUMMARY:Murder party & escape game d'halloween
DESCRIPTION:Venez vivre une aventure inédite au musée Nicolas Poussin ! \nUne machine extraordinaire\, l’automate de Coriolan\, vous réserve de nombreuses surprises… \nVendredi 31 octobre au musée Nicolas Poussin : \n\n15h00 : Escape game\, défis et énigmes à résoudre (à partir de 5 ans – durée 2h)\n19h00 : Murder party\, énigmes à résoudre (à partir de 16 ans – durée 2h)\n\nGratuit \nInscriptions auprès de l’animatrice de la vie sociale\, Muriel Lemay au 06 70 85 50 40 ou centresocial@ville-andelys.fr (places limitées)
URL:https://www.ville-andelys.fr/evenement/murder-party-escape-game-dhalloween/
LOCATION:Musée Nicolas Poussin\, 2 rue Sainte-Clotilde\, Les Andelys\, Eure\, 27700\, France
CATEGORIES:Artistique,Culturel,Exposition,Loisirs,Patrimoine,Sortie famille
ATTACH;FMTTYPE=image/jpeg:https://www.ville-andelys.fr/wp-content/uploads/Bandeau-Page-halloween-scaled.jpg
ORGANIZER;CN="Direction Culture et Patrimoine de la Ville des Andelys":MAILTO:Culture@ville-andelys.fr
GEO:49.24572;1.4201895
X-APPLE-STRUCTURED-LOCATION;VALUE=URI;X-ADDRESS=Musée Nicolas Poussin 2 rue Sainte-Clotilde Les Andelys Eure 27700 France;X-APPLE-RADIUS=500;X-TITLE=2 rue Sainte-Clotilde:geo:1.4201895,49.24572
END:VEVENT
BEGIN:VEVENT
DTSTART;TZID=Europe/Paris:20251031T180000
DTEND;TZID=Europe/Paris:20251031T210000
DTSTAMP:20260420T122937
CREATED:20251020T103039Z
LAST-MODIFIED:20251020T141635Z
UID:10004795-1761933600-1761944400@www.ville-andelys.fr
SUMMARY:Tournoi de foot en salle en famille
DESCRIPTION:Partager un moment sportif\, convivial et plein d’énergie en famille ! \nDans le cadre des animations sportives des vacances d’automne\, la Direction des sports de la Ville en partenariat avec le CSA Football\, vous proposent tournoi de foot en salle. \n\nLundi 27 et vendredi 31 octobre\nDe 18h à 21h\nGymnase H. Boyer\n\nÉquipes mixtes : 3 adultes plus 3 enfants \nPas d’équipe complète ? Pas de souci ! Venez à 17h30\, on vous aidera à rejoindre une équipe. \nInscription auprès de Johan Poisson\, Chargé de mission sports au 06 02 09 48 08 ou à j.poisson@ville-andelys.fr \nAutres activités proposées : \n\nAteliers de sports d’opposition\nSoirée tir à l’arc
URL:https://www.ville-andelys.fr/evenement/tournoi-de-foot-en-salle-en-famille/2025-10-31/
LOCATION:Gymnase Henri Boyer\, Rue Raymond Phelip\, Les Andelys\, Eure\, 27700\, France
CATEGORIES:Loisirs,Sport
ATTACH;FMTTYPE=image/jpeg:https://www.ville-andelys.fr/wp-content/uploads/foot-papa-et-son-fils-scaled.jpg
END:VEVENT
END:VCALENDAR