BEGIN:VCALENDAR
VERSION:2.0
PRODID:-//Ville Des Andelys - ECPv6.15.20//NONSGML v1.0//EN
CALSCALE:GREGORIAN
METHOD:PUBLISH
X-WR-CALNAME:Ville Des Andelys
X-ORIGINAL-URL:https://www.ville-andelys.fr
X-WR-CALDESC:Évènements pour Ville Des Andelys
REFRESH-INTERVAL;VALUE=DURATION:PT1H
X-Robots-Tag:noindex
X-PUBLISHED-TTL:PT1H
BEGIN:VTIMEZONE
TZID:Europe/Paris
BEGIN:DAYLIGHT
TZOFFSETFROM:+0100
TZOFFSETTO:+0200
TZNAME:CEST
DTSTART:20240331T010000
END:DAYLIGHT
BEGIN:STANDARD
TZOFFSETFROM:+0200
TZOFFSETTO:+0100
TZNAME:CET
DTSTART:20241027T010000
END:STANDARD
BEGIN:DAYLIGHT
TZOFFSETFROM:+0100
TZOFFSETTO:+0200
TZNAME:CEST
DTSTART:20250330T010000
END:DAYLIGHT
BEGIN:STANDARD
TZOFFSETFROM:+0200
TZOFFSETTO:+0100
TZNAME:CET
DTSTART:20251026T010000
END:STANDARD
BEGIN:DAYLIGHT
TZOFFSETFROM:+0100
TZOFFSETTO:+0200
TZNAME:CEST
DTSTART:20260329T010000
END:DAYLIGHT
BEGIN:STANDARD
TZOFFSETFROM:+0200
TZOFFSETTO:+0100
TZNAME:CET
DTSTART:20261025T010000
END:STANDARD
END:VTIMEZONE
BEGIN:VEVENT
DTSTART;TZID=Europe/Paris:20251104T140000
DTEND;TZID=Europe/Paris:20251104T160000
DTSTAMP:20260420T122751
CREATED:20250903T081039Z
LAST-MODIFIED:20250903T081039Z
UID:10002883-1762264800-1762272000@www.ville-andelys.fr
SUMMARY:Réunion d'information CAF
DESCRIPTION:Mardi 04 novembre 2025 de 14h00 à 16h00\, France services vous propose une réunion d’information en présence d’un agent CAF à  la Maison de la Famille et des Solidarités. \n\nRSA\, prime d’activité\, prestations familiales\, allocations adulte handicapé…\n\nGratuit\, sur inscription à la MFS ou au 02 32 54 75 63. \nTélécharger l’affiche
URL:https://www.ville-andelys.fr/evenement/reunion-dinformation-caf-2/
LOCATION:Maison de la Famille et des Solidarités\, Rue des Oiseaux\, Les Andelys\, Eure\, 27700\, France
CATEGORIES:Santé,Solidarité
ATTACH;FMTTYPE=image/jpeg:https://www.ville-andelys.fr/wp-content/uploads/Affiche-Atelier-CAF_Plan-de-travail-1-scaled.jpg
ORGANIZER;CN="France services":MAILTO:franceservices@ville-andelys.fr
GEO:49.2460895;1.4181155
X-APPLE-STRUCTURED-LOCATION;VALUE=URI;X-ADDRESS=Maison de la Famille et des Solidarités Rue des Oiseaux Les Andelys Eure 27700 France;X-APPLE-RADIUS=500;X-TITLE=Rue des Oiseaux:geo:1.4181155,49.2460895
END:VEVENT
BEGIN:VEVENT
DTSTART;TZID=Europe/Paris:20251104T140000
DTEND;TZID=Europe/Paris:20251104T170000
DTSTAMP:20260420T122751
CREATED:20250924T130647Z
LAST-MODIFIED:20250924T132731Z
UID:10003213-1762264800-1762275600@www.ville-andelys.fr
SUMMARY:Atelier cuisine
DESCRIPTION:Venez éveiller vos papilles et vos talents : découvrez de nouvelles recettes et techniques de cuisine ! \nLe Centre social des Andelys vous propose un atelier cuisine\, tous les mardis de 14h00 à 17h00 à la Résidence autonomie Les Petits Prés (rue Flavigny). \nInscription auprès de Muriel LEMAY\, animatrice de la vie sociale : 06 70 85 50 40 / 02 32 54 75 63 / m.lemay@ville-andelys.fr \n\nCotisation annuelle : 12€\n\n 
URL:https://www.ville-andelys.fr/evenement/atelier-cuisine/2025-11-04/
LOCATION:Résidence autonomie Les Petits Près\, Rue Flavigny\, Espace Christiane Hamard\, Les Andelys\, 27700
CATEGORIES:Jeunesse,Loisirs,Solidarité
ATTACH;FMTTYPE=image/jpeg:https://www.ville-andelys.fr/wp-content/uploads/Atelier-cuisine-Centre-social-scaled.jpg
ORGANIZER;CN="Centre social des Andelys":MAILTO:centresocial@ville-andelys.fr
GEO:49.2463472;1.4053906
X-APPLE-STRUCTURED-LOCATION;VALUE=URI;X-ADDRESS=Résidence autonomie Les Petits Près Rue Flavigny Espace Christiane Hamard Les Andelys 27700;X-APPLE-RADIUS=500;X-TITLE=Rue Flavigny\, Espace Christiane Hamard:geo:1.4053906,49.2463472
END:VEVENT
BEGIN:VEVENT
DTSTART;TZID=Europe/Paris:20251104T170000
DTEND;TZID=Europe/Paris:20251104T190000
DTSTAMP:20260420T122752
CREATED:20250527T151024Z
LAST-MODIFIED:20250527T151159Z
UID:10002625-1762275600-1762282800@www.ville-andelys.fr
SUMMARY:La rencontre des aidants
DESCRIPTION:Vous accompagnez une personne âgée (conjoint\, parent\, ami\, voisin…) ? \nVenez participer à des rencontres animées par une psychologue et le Clic Est. Ensemble\, préservons une relation bienveillante. \nPour tout renseignement\, veuillez vous rapprocher du CLIC : clic-est@eure.fr/02 32 71 24 73 \nParticipation libre
URL:https://www.ville-andelys.fr/evenement/la-rencontre-des-aidants/2025-11-04/
LOCATION:Le QG\, 47 bis\, rue Marcel Lefèvre\, Les Andelys\, Eure\, 27700\, France
CATEGORIES:Solidarité
ATTACH;FMTTYPE=image/jpeg:https://www.ville-andelys.fr/wp-content/uploads/RencontreDesAidants_Page_1.jpg
END:VEVENT
BEGIN:VEVENT
DTSTART;TZID=Europe/Paris:20251104T173000
DTEND;TZID=Europe/Paris:20251104T173000
DTSTAMP:20260420T122752
CREATED:20251030T105413Z
LAST-MODIFIED:20251030T110008Z
UID:10005174-1762277400-1762277400@www.ville-andelys.fr
SUMMARY:Atelier cuisine en famille « Cuisinez la Normandie »
DESCRIPTION:Le Centre social des Andelys vous propose un atelier cuisine en famille\, le mardi 04 novembre à 17h30 en salle des fêtes. Préparation d’un plat Normand\, puis dégustation des plats autour d’un repas. \nInscription auprès d’Émilie MOREL\, référente Famille : 06 60 76 04 16 / centresocial@ville-andelys.fr \nTélécharger l’affiche
URL:https://www.ville-andelys.fr/evenement/atelier-cuisine-en-famille-cuisinez-la-normandie/
LOCATION:Salle des Fêtes des Andelys\, 28\, avenue du Général de Gaulle\, Les Andelys\, Eure\, 27700\, France
CATEGORIES:Loisirs
ATTACH;FMTTYPE=image/jpeg:https://www.ville-andelys.fr/wp-content/uploads/Affiche-format-A3-scaled.jpg
ORGANIZER;CN="Centre social des Andelys":MAILTO:centresocial@ville-andelys.fr
END:VEVENT
END:VCALENDAR