BEGIN:VCALENDAR
VERSION:2.0
PRODID:-//Ville Des Andelys - ECPv6.15.20//NONSGML v1.0//EN
CALSCALE:GREGORIAN
METHOD:PUBLISH
X-WR-CALNAME:Ville Des Andelys
X-ORIGINAL-URL:https://www.ville-andelys.fr
X-WR-CALDESC:Évènements pour Ville Des Andelys
REFRESH-INTERVAL;VALUE=DURATION:PT1H
X-Robots-Tag:noindex
X-PUBLISHED-TTL:PT1H
BEGIN:VTIMEZONE
TZID:Europe/Paris
BEGIN:DAYLIGHT
TZOFFSETFROM:+0100
TZOFFSETTO:+0200
TZNAME:CEST
DTSTART:20240331T010000
END:DAYLIGHT
BEGIN:STANDARD
TZOFFSETFROM:+0200
TZOFFSETTO:+0100
TZNAME:CET
DTSTART:20241027T010000
END:STANDARD
BEGIN:DAYLIGHT
TZOFFSETFROM:+0100
TZOFFSETTO:+0200
TZNAME:CEST
DTSTART:20250330T010000
END:DAYLIGHT
BEGIN:STANDARD
TZOFFSETFROM:+0200
TZOFFSETTO:+0100
TZNAME:CET
DTSTART:20251026T010000
END:STANDARD
BEGIN:DAYLIGHT
TZOFFSETFROM:+0100
TZOFFSETTO:+0200
TZNAME:CEST
DTSTART:20260329T010000
END:DAYLIGHT
BEGIN:STANDARD
TZOFFSETFROM:+0200
TZOFFSETTO:+0100
TZNAME:CET
DTSTART:20261025T010000
END:STANDARD
END:VTIMEZONE
BEGIN:VEVENT
DTSTART;TZID=Europe/Paris:20251111T084500
DTEND;TZID=Europe/Paris:20251111T183000
DTSTAMP:20260420T150328
CREATED:20251021T132544Z
LAST-MODIFIED:20251021T132544Z
UID:10004803-1762850700-1762885800@www.ville-andelys.fr
SUMMARY:Cérémonie de la commémoration de l’armistice
DESCRIPTION:Mardi 11 novembre\, la Ville des Andelys commémorera le 107e anniversaire de l’Armistice. \nProgramme : \n\n08h45 : Cérémonie au monument aux morts des anciens enfants de troupe (D125\, derrière le collège Rosa Parks)\n09h30 : Messe pour la paix et les anciens combattants (collégiale Notre-Dame des Andelys)\n11h00 : Cérémonie au monument aux morts des Andelys (55 avenue de la République)\n11h45 : Discours et vin d’honneur au square Nicolas Poussin (salle des mariages\, en fonction de la météo)\n18h00 : Remise de la Légion d’Honneur à M. Roger PARISSE\, par M. Charles GIUSTI\, Préfet de l’Eure (salle des mariages)
URL:https://www.ville-andelys.fr/evenement/ceremonie-de-la-commemoration-de-larmistice-2/
LOCATION:Les Andelys\, Les Andelys\, Eure\, 27700\, France
CATEGORIES:Cérémonie patriotique,Commémoration,Vie citoyenne
ATTACH;FMTTYPE=image/jpeg:https://www.ville-andelys.fr/wp-content/uploads/IMG_20210618_180212-10-scaled.jpg
ORGANIZER;CN="Ville des Andelys":MAILTO:contact@ville-andelys.fr
END:VEVENT
BEGIN:VEVENT
DTSTART;TZID=Europe/Paris:20251111T140000
DTEND;TZID=Europe/Paris:20251111T170000
DTSTAMP:20260420T150328
CREATED:20250924T130647Z
LAST-MODIFIED:20250924T132731Z
UID:10003214-1762869600-1762880400@www.ville-andelys.fr
SUMMARY:Atelier cuisine
DESCRIPTION:Venez éveiller vos papilles et vos talents : découvrez de nouvelles recettes et techniques de cuisine ! \nLe Centre social des Andelys vous propose un atelier cuisine\, tous les mardis de 14h00 à 17h00 à la Résidence autonomie Les Petits Prés (rue Flavigny). \nInscription auprès de Muriel LEMAY\, animatrice de la vie sociale : 06 70 85 50 40 / 02 32 54 75 63 / m.lemay@ville-andelys.fr \n\nCotisation annuelle : 12€\n\n 
URL:https://www.ville-andelys.fr/evenement/atelier-cuisine/2025-11-11/
LOCATION:Résidence autonomie Les Petits Près\, Rue Flavigny\, Espace Christiane Hamard\, Les Andelys\, 27700
CATEGORIES:Jeunesse,Loisirs,Solidarité
ATTACH;FMTTYPE=image/jpeg:https://www.ville-andelys.fr/wp-content/uploads/Atelier-cuisine-Centre-social-scaled.jpg
ORGANIZER;CN="Centre social des Andelys":MAILTO:centresocial@ville-andelys.fr
GEO:49.2463472;1.4053906
X-APPLE-STRUCTURED-LOCATION;VALUE=URI;X-ADDRESS=Résidence autonomie Les Petits Près Rue Flavigny Espace Christiane Hamard Les Andelys 27700;X-APPLE-RADIUS=500;X-TITLE=Rue Flavigny\, Espace Christiane Hamard:geo:1.4053906,49.2463472
END:VEVENT
END:VCALENDAR