BEGIN:VCALENDAR
VERSION:2.0
PRODID:-//Ville Des Andelys - ECPv6.15.20//NONSGML v1.0//EN
CALSCALE:GREGORIAN
METHOD:PUBLISH
X-WR-CALNAME:Ville Des Andelys
X-ORIGINAL-URL:https://www.ville-andelys.fr
X-WR-CALDESC:Évènements pour Ville Des Andelys
REFRESH-INTERVAL;VALUE=DURATION:PT1H
X-Robots-Tag:noindex
X-PUBLISHED-TTL:PT1H
BEGIN:VTIMEZONE
TZID:Europe/Paris
BEGIN:DAYLIGHT
TZOFFSETFROM:+0100
TZOFFSETTO:+0200
TZNAME:CEST
DTSTART:20240331T010000
END:DAYLIGHT
BEGIN:STANDARD
TZOFFSETFROM:+0200
TZOFFSETTO:+0100
TZNAME:CET
DTSTART:20241027T010000
END:STANDARD
BEGIN:DAYLIGHT
TZOFFSETFROM:+0100
TZOFFSETTO:+0200
TZNAME:CEST
DTSTART:20250330T010000
END:DAYLIGHT
BEGIN:STANDARD
TZOFFSETFROM:+0200
TZOFFSETTO:+0100
TZNAME:CET
DTSTART:20251026T010000
END:STANDARD
BEGIN:DAYLIGHT
TZOFFSETFROM:+0100
TZOFFSETTO:+0200
TZNAME:CEST
DTSTART:20260329T010000
END:DAYLIGHT
BEGIN:STANDARD
TZOFFSETFROM:+0200
TZOFFSETTO:+0100
TZNAME:CET
DTSTART:20261025T010000
END:STANDARD
END:VTIMEZONE
BEGIN:VEVENT
DTSTART;TZID=Europe/Paris:20251112T100000
DTEND;TZID=Europe/Paris:20251112T120000
DTSTAMP:20260420T150328
CREATED:20251029T144419Z
LAST-MODIFIED:20251029T145052Z
UID:10005167-1762941600-1762948800@www.ville-andelys.fr
SUMMARY:Temps parents-enfants
DESCRIPTION:Le Centre social des Andelys vous propose mercredi 12 novembre\, un temps parents-enfants à la Maison de la famille et des Solidarités de 10h00 à 12h00. \nPlanning : \n\nDe 10h00 à 11h30 : Conte et musique\nDe 11h30 à 12h00 : Café des parents / blabla des enfants\n\nInscription auprès d’Émilie MOREL\, référente Famille : 06 60 76 04 16 / centresocial@ville-andelys.fr \nProgramme : Novembre – Décembre
URL:https://www.ville-andelys.fr/evenement/temps-parents-enfants-3/
LOCATION:Maison de la Famille et des Solidarités\, Rue des Oiseaux\, Les Andelys\, Eure\, 27700\, France
CATEGORIES:Jeunesse,Loisirs,Solidarité
ATTACH;FMTTYPE=image/jpeg:https://www.ville-andelys.fr/wp-content/uploads/Femme-enfant.jpg
ORGANIZER;CN="Centre social des Andelys":MAILTO:centresocial@ville-andelys.fr
GEO:49.2460895;1.4181155
X-APPLE-STRUCTURED-LOCATION;VALUE=URI;X-ADDRESS=Maison de la Famille et des Solidarités Rue des Oiseaux Les Andelys Eure 27700 France;X-APPLE-RADIUS=500;X-TITLE=Rue des Oiseaux:geo:1.4181155,49.2460895
END:VEVENT
END:VCALENDAR