BEGIN:VCALENDAR
VERSION:2.0
PRODID:-//Ville Des Andelys - ECPv6.15.20//NONSGML v1.0//EN
CALSCALE:GREGORIAN
METHOD:PUBLISH
X-ORIGINAL-URL:https://www.ville-andelys.fr
X-WR-CALDESC:Évènements pour Ville Des Andelys
REFRESH-INTERVAL;VALUE=DURATION:PT1H
X-Robots-Tag:noindex
X-PUBLISHED-TTL:PT1H
BEGIN:VTIMEZONE
TZID:Europe/Paris
BEGIN:DAYLIGHT
TZOFFSETFROM:+0100
TZOFFSETTO:+0200
TZNAME:CEST
DTSTART:20240331T010000
END:DAYLIGHT
BEGIN:STANDARD
TZOFFSETFROM:+0200
TZOFFSETTO:+0100
TZNAME:CET
DTSTART:20241027T010000
END:STANDARD
BEGIN:DAYLIGHT
TZOFFSETFROM:+0100
TZOFFSETTO:+0200
TZNAME:CEST
DTSTART:20250330T010000
END:DAYLIGHT
BEGIN:STANDARD
TZOFFSETFROM:+0200
TZOFFSETTO:+0100
TZNAME:CET
DTSTART:20251026T010000
END:STANDARD
BEGIN:DAYLIGHT
TZOFFSETFROM:+0100
TZOFFSETTO:+0200
TZNAME:CEST
DTSTART:20260329T010000
END:DAYLIGHT
BEGIN:STANDARD
TZOFFSETFROM:+0200
TZOFFSETTO:+0100
TZNAME:CET
DTSTART:20261025T010000
END:STANDARD
END:VTIMEZONE
BEGIN:VEVENT
DTSTART;VALUE=DATE:20251128
DTEND;VALUE=DATE:20251206
DTSTAMP:20260420T122930
CREATED:20250520T083626Z
LAST-MODIFIED:20251127T095629Z
UID:10002549-1764288000-1764979199@www.ville-andelys.fr
SUMMARY:Ramassage des encombrants
DESCRIPTION:Ils viennent directement chez vous ! \nLa Ville des Andelys lance une collecte d’encombrants sur rendez-vous en collaboration avec la Ressourcerie l’Abri. Dans une démarche d’écoresponsabilité et de préservation de l’environnement\, mais également de soutien aux administrés ne pouvant se déplacer à la déchèterie\, la Municipalité propose un service de collecte d’encombrants à domicile du vendredi 28 novembre au vendredi 05 décembre 2025. \nToutes les infos.
URL:https://www.ville-andelys.fr/evenement/ramassage-des-encombrants/
LOCATION:Ville les Andelys\, Les Andelys\, Eure\, 27700\, France
CATEGORIES:Environnement
ATTACH;FMTTYPE=image/jpeg:https://www.ville-andelys.fr/wp-content/uploads/Affiche-28.11-05.12.jpg
ORGANIZER;CN="Association %3A Ressourcerie l'Abri":MAILTO:ressourcerie.lesandelys@abriasso.org
END:VEVENT
BEGIN:VEVENT
DTSTART;TZID=Europe/Paris:20251128T140000
DTEND;TZID=Europe/Paris:20251128T160000
DTSTAMP:20260420T122930
CREATED:20250211T134537Z
LAST-MODIFIED:20250211T140237Z
UID:10002353-1764338400-1764345600@www.ville-andelys.fr
SUMMARY:Ateliers numériques
DESCRIPTION:Ensemble rendons le numérique accessible à tous ! \nToutes les deux semaines\, le vendredi de 14h00 à 16h00\, venez participer aux ateliers numériques pour l’apprentissage et l’accompagnement dans l’utilisation des outils numériques. \n\nGratuit\, ouvert à tous\n\nInscription au 06 80 52 50 15 / q.coinon@ville-andelys.fr
URL:https://www.ville-andelys.fr/evenement/ateliers-numeriques/2025-11-28/
LOCATION:Résidence autonomie Les Petits Près\, Rue Flavigny\, Espace Christiane Hamard\, Les Andelys\, 27700
CATEGORIES:Loisirs,Solidarité,Vie citoyenne
ATTACH;FMTTYPE=image/jpeg:https://www.ville-andelys.fr/wp-content/uploads/Ateliers-numeriques-FS-scaled.jpg
ORGANIZER;CN="France services":MAILTO:franceservices@ville-andelys.fr
GEO:49.2463472;1.4053906
X-APPLE-STRUCTURED-LOCATION;VALUE=URI;X-ADDRESS=Résidence autonomie Les Petits Près Rue Flavigny Espace Christiane Hamard Les Andelys 27700;X-APPLE-RADIUS=500;X-TITLE=Rue Flavigny\, Espace Christiane Hamard:geo:1.4053906,49.2463472
END:VEVENT
BEGIN:VEVENT
DTSTART;TZID=Europe/Paris:20251128T180000
DTEND;TZID=Europe/Paris:20251128T235900
DTSTAMP:20260420T122930
CREATED:20251030T084229Z
LAST-MODIFIED:20251106T133643Z
UID:10005173-1764352800-1764374340@www.ville-andelys.fr
SUMMARY:Soirée Place aux Jeunes 2025
DESCRIPTION:Le Centre social des Andelys organise le vendredi 28 novembre 2025 la 5e édition de la soirée dédiée aux jeunes de 14 à 18 ans (née de 2007 à 2011). \nCet événement a pour ambition de valoriser et d’impliquer la jeunesse dans les projets municipaux tout en proposant un moment festif\, encadré et sécurisé. Il s’agit également de promouvoir la citoyenneté et la prévention par les pairs dans une ambiance conviviale. \nLa soirée débutera à 18h au cinéma « Le Palace »\, par le visionnage du court-métrage sur le thème de la santé mentale réalisé par les jeunes dans le cadre de l’action d’éducation à l’image. Cette vidéo fera l’objet d’un échange avec les élus\, afin d’encourager une démarche de prévention positive portée par des jeunes pour des jeunes. À partir de 20h et jusqu’à minuit\, la salle des fêtes accueillera une soirée avec DJ\, buffet\, photobooth\, l’espace jeux vidéo\, code vestimentaire\, « Or et argent ». \nProgramme et inscription
URL:https://www.ville-andelys.fr/evenement/soiree-place-aux-jeunes-2025/
LOCATION:Cinéma Le Palace / Salle des fêtes des Andelys\, Les Andelys\, Eure\, 27700\, France
CATEGORIES:Jeunesse,Loisirs,Vie citoyenne
ATTACH;FMTTYPE=image/jpeg:https://www.ville-andelys.fr/wp-content/uploads/Affiche-Place-aux-jeunes-2025-scaled.jpg
ORGANIZER;CN="Centre social des Andelys":MAILTO:centresocial@ville-andelys.fr
END:VEVENT
END:VCALENDAR