BEGIN:VCALENDAR
VERSION:2.0
PRODID:-//Ville Des Andelys - ECPv6.15.20//NONSGML v1.0//EN
CALSCALE:GREGORIAN
METHOD:PUBLISH
X-ORIGINAL-URL:https://www.ville-andelys.fr
X-WR-CALDESC:Évènements pour Ville Des Andelys
REFRESH-INTERVAL;VALUE=DURATION:PT1H
X-Robots-Tag:noindex
X-PUBLISHED-TTL:PT1H
BEGIN:VTIMEZONE
TZID:Europe/Paris
BEGIN:DAYLIGHT
TZOFFSETFROM:+0100
TZOFFSETTO:+0200
TZNAME:CEST
DTSTART:20240331T010000
END:DAYLIGHT
BEGIN:STANDARD
TZOFFSETFROM:+0200
TZOFFSETTO:+0100
TZNAME:CET
DTSTART:20241027T010000
END:STANDARD
BEGIN:DAYLIGHT
TZOFFSETFROM:+0100
TZOFFSETTO:+0200
TZNAME:CEST
DTSTART:20250330T010000
END:DAYLIGHT
BEGIN:STANDARD
TZOFFSETFROM:+0200
TZOFFSETTO:+0100
TZNAME:CET
DTSTART:20251026T010000
END:STANDARD
BEGIN:DAYLIGHT
TZOFFSETFROM:+0100
TZOFFSETTO:+0200
TZNAME:CEST
DTSTART:20260329T010000
END:DAYLIGHT
BEGIN:STANDARD
TZOFFSETFROM:+0200
TZOFFSETTO:+0100
TZNAME:CET
DTSTART:20261025T010000
END:STANDARD
END:VTIMEZONE
BEGIN:VEVENT
DTSTART;VALUE=DATE:20251128
DTEND;VALUE=DATE:20251206
DTSTAMP:20260420T054917
CREATED:20250520T083626Z
LAST-MODIFIED:20251127T095629Z
UID:10002549-1764288000-1764979199@www.ville-andelys.fr
SUMMARY:Ramassage des encombrants
DESCRIPTION:Ils viennent directement chez vous ! \nLa Ville des Andelys lance une collecte d’encombrants sur rendez-vous en collaboration avec la Ressourcerie l’Abri. Dans une démarche d’écoresponsabilité et de préservation de l’environnement\, mais également de soutien aux administrés ne pouvant se déplacer à la déchèterie\, la Municipalité propose un service de collecte d’encombrants à domicile du vendredi 28 novembre au vendredi 05 décembre 2025. \nToutes les infos.
URL:https://www.ville-andelys.fr/evenement/ramassage-des-encombrants/
LOCATION:Ville les Andelys\, Les Andelys\, Eure\, 27700\, France
CATEGORIES:Environnement
ATTACH;FMTTYPE=image/jpeg:https://www.ville-andelys.fr/wp-content/uploads/Affiche-28.11-05.12.jpg
ORGANIZER;CN="Association %3A Ressourcerie l'Abri":MAILTO:ressourcerie.lesandelys@abriasso.org
END:VEVENT
BEGIN:VEVENT
DTSTART;TZID=Europe/Paris:20251203T100000
DTEND;TZID=Europe/Paris:20251203T120000
DTSTAMP:20260420T054917
CREATED:20251029T144949Z
LAST-MODIFIED:20251029T144949Z
UID:10005170-1764756000-1764763200@www.ville-andelys.fr
SUMMARY:Temps parents-enfants
DESCRIPTION:Le Centre social des Andelys vous propose mercredi 03 décembre\, un temps parents-enfants à la Maison de la famille et des Solidarités de 10h00 à 12h00. \nPlanning : \n\nDe 10h00 à 11h30 : Activité manuelle\, « Village illuminé »\nDe 11h30 à 12h00 : Café des parents / blabla des enfants\n\nInscription auprès d’Émilie MOREL\, référente Famille : 06 60 76 04 16 / centresocial@ville-andelys.fr \nProgramme : Novembre – Décembre
URL:https://www.ville-andelys.fr/evenement/temps-parents-enfants-9/
LOCATION:Maison de la Famille et des Solidarités\, Rue des Oiseaux\, Les Andelys\, Eure\, 27700\, France
CATEGORIES:Jeunesse,Loisirs,Solidarité
ATTACH;FMTTYPE=image/jpeg:https://www.ville-andelys.fr/wp-content/uploads/Femme-enfant.jpg
ORGANIZER;CN="Centre social des Andelys":MAILTO:centresocial@ville-andelys.fr
GEO:49.2460895;1.4181155
X-APPLE-STRUCTURED-LOCATION;VALUE=URI;X-ADDRESS=Maison de la Famille et des Solidarités Rue des Oiseaux Les Andelys Eure 27700 France;X-APPLE-RADIUS=500;X-TITLE=Rue des Oiseaux:geo:1.4181155,49.2460895
END:VEVENT
BEGIN:VEVENT
DTSTART;TZID=Europe/Paris:20251203T140000
DTEND;TZID=Europe/Paris:20251203T140000
DTSTAMP:20260420T054917
CREATED:20251121T094100Z
LAST-MODIFIED:20251121T111616Z
UID:10005444-1764770400-1764770400@www.ville-andelys.fr
SUMMARY:Défilé de mode - "Naissance de la Normandie\, sur les traces de Rollon"
DESCRIPTION:« Naissance de la Normandie\, sur les traces de Rollon » ! \nMercredi 3 décembre à 14h\, les habitants de la Résidence Les petits prés\, le CCAS des Andelys et le Conseil municipal des enfants vous donnent rendez-vous à la salle des fêtes pour un défilé unique. \nDécouvrez un projet intergénérationnel où chacun apporte sa créativité pour célébrer notre patrimoine normand. \nInscription gratuite : 02 32 54 75 63 / ccas@ville-andelys.fr \nTélécharger le flyer
URL:https://www.ville-andelys.fr/evenement/defile-de-mode-naissance-de-la-normandie-sur-les-traces-de-rollon/
LOCATION:Salle des Fêtes des Andelys\, 28\, avenue du Général de Gaulle\, Les Andelys\, Eure\, 27700\, France
CATEGORIES:Loisirs,Sortie famille,Spectacle
ATTACH;FMTTYPE=image/png:https://www.ville-andelys.fr/wp-content/uploads/Defile-naissance-de-la-normandie-affiche.png
ORGANIZER;CN="CCAS des Andelys":MAILTO:ccas@ville-andelys.fr
END:VEVENT
END:VCALENDAR