BEGIN:VCALENDAR
VERSION:2.0
PRODID:-//Ville Des Andelys - ECPv6.15.20//NONSGML v1.0//EN
CALSCALE:GREGORIAN
METHOD:PUBLISH
X-WR-CALNAME:Ville Des Andelys
X-ORIGINAL-URL:https://www.ville-andelys.fr
X-WR-CALDESC:Évènements pour Ville Des Andelys
REFRESH-INTERVAL;VALUE=DURATION:PT1H
X-Robots-Tag:noindex
X-PUBLISHED-TTL:PT1H
BEGIN:VTIMEZONE
TZID:Europe/Paris
BEGIN:DAYLIGHT
TZOFFSETFROM:+0100
TZOFFSETTO:+0200
TZNAME:CEST
DTSTART:20240331T010000
END:DAYLIGHT
BEGIN:STANDARD
TZOFFSETFROM:+0200
TZOFFSETTO:+0100
TZNAME:CET
DTSTART:20241027T010000
END:STANDARD
BEGIN:DAYLIGHT
TZOFFSETFROM:+0100
TZOFFSETTO:+0200
TZNAME:CEST
DTSTART:20250330T010000
END:DAYLIGHT
BEGIN:STANDARD
TZOFFSETFROM:+0200
TZOFFSETTO:+0100
TZNAME:CET
DTSTART:20251026T010000
END:STANDARD
BEGIN:DAYLIGHT
TZOFFSETFROM:+0100
TZOFFSETTO:+0200
TZNAME:CEST
DTSTART:20260329T010000
END:DAYLIGHT
BEGIN:STANDARD
TZOFFSETFROM:+0200
TZOFFSETTO:+0100
TZNAME:CET
DTSTART:20261025T010000
END:STANDARD
BEGIN:DAYLIGHT
TZOFFSETFROM:+0100
TZOFFSETTO:+0200
TZNAME:CEST
DTSTART:20270328T010000
END:DAYLIGHT
BEGIN:STANDARD
TZOFFSETFROM:+0200
TZOFFSETTO:+0100
TZNAME:CET
DTSTART:20271031T010000
END:STANDARD
END:VTIMEZONE
BEGIN:VEVENT
DTSTART;VALUE=DATE:20251128
DTEND;VALUE=DATE:20251206
DTSTAMP:20260420T030942
CREATED:20250520T083626Z
LAST-MODIFIED:20251127T095629Z
UID:10002549-1764288000-1764979199@www.ville-andelys.fr
SUMMARY:Ramassage des encombrants
DESCRIPTION:Ils viennent directement chez vous ! \nLa Ville des Andelys lance une collecte d’encombrants sur rendez-vous en collaboration avec la Ressourcerie l’Abri. Dans une démarche d’écoresponsabilité et de préservation de l’environnement\, mais également de soutien aux administrés ne pouvant se déplacer à la déchèterie\, la Municipalité propose un service de collecte d’encombrants à domicile du vendredi 28 novembre au vendredi 05 décembre 2025. \nToutes les infos.
URL:https://www.ville-andelys.fr/evenement/ramassage-des-encombrants/
LOCATION:Ville les Andelys\, Les Andelys\, Eure\, 27700\, France
CATEGORIES:Environnement
ATTACH;FMTTYPE=image/jpeg:https://www.ville-andelys.fr/wp-content/uploads/Affiche-28.11-05.12.jpg
ORGANIZER;CN="Association %3A Ressourcerie l'Abri":MAILTO:ressourcerie.lesandelys@abriasso.org
END:VEVENT
BEGIN:VEVENT
DTSTART;VALUE=DATE:20251205
DTEND;VALUE=DATE:20260105
DTSTAMP:20260420T030942
CREATED:20251121T112026Z
LAST-MODIFIED:20251121T112506Z
UID:10005445-1764892800-1767571199@www.ville-andelys.fr
SUMMARY:Festivités de Noël 2025
DESCRIPTION:Plongez dans la magie de Noël aux Andelys ! \nLa Ville des Andelys\, l’Office de la Culture et des Loisirs des Andelys (OCLA) et l’Union commerciale\, (UCIAL) vous propose des illuminations\, des animations et un marché de Noël. \nToutes les infos sur les festivités de Noël
URL:https://www.ville-andelys.fr/evenement/festivites-de-noel-2025/
LOCATION:Ville les Andelys\, Les Andelys\, Eure\, 27700\, France
CATEGORIES:Commerçant,Culturel,Loisirs,Manifestation,Sortie famille
ATTACH;FMTTYPE=image/jpeg:https://www.ville-andelys.fr/wp-content/uploads/Affiche-festivites-de-Noel-2025.jpg
ORGANIZER;CN="Ville des Andelys":MAILTO:contact@ville-andelys.fr
END:VEVENT
BEGIN:VEVENT
DTSTART;TZID=Europe/Paris:20251205T110000
DTEND;TZID=Europe/Paris:20251205T110000
DTSTAMP:20260420T030942
CREATED:20251114T134534Z
LAST-MODIFIED:20251114T134534Z
UID:10005441-1764932400-1764932400@www.ville-andelys.fr
SUMMARY:Cérémonie d'hommage aux morts pour la France
DESCRIPTION:Vendredi 05 décembre à 11h00\, se déroulera au monument aux morts des Andelys\, la cérémonie en hommage aux Morts pour la France de la guerre d’Algérie et des combats du Maroc et de la Tunisie.
URL:https://www.ville-andelys.fr/evenement/ceremonie-dhommage-aux-morts-pour-la-france-2/
LOCATION:Monument aux morts des Andelys\, 55 Avenue de la République\, Les Andelys\, Eure\, 27700
CATEGORIES:Cérémonie patriotique,Commémoration,Vie citoyenne
ATTACH;FMTTYPE=image/jpeg:https://www.ville-andelys.fr/wp-content/uploads/Ceremonies-patriotiques-Fb-scaled.jpg
ORGANIZER;CN="Ville des Andelys":MAILTO:contact@ville-andelys.fr
END:VEVENT
BEGIN:VEVENT
DTSTART;TZID=Europe/Paris:20251205T140000
DTEND;TZID=Europe/Paris:20251205T200000
DTSTAMP:20260420T030942
CREATED:20251205T084842Z
LAST-MODIFIED:20251205T084842Z
UID:10005454-1764943200-1764964800@www.ville-andelys.fr
SUMMARY:Marché de Noël Habitat & Humanisme Eure
DESCRIPTION:Habitat & Humanisme Eure vous propose un marché de Noël\, vendredi 05 décembre de 14h00 à 20h00 à la résidence « La Sittelle » (10 Rue du Général Fontanges). \n\nDécorations\, créations et friandises.
URL:https://www.ville-andelys.fr/evenement/marche-de-noel-habitat-humanisme-eure/
LOCATION:Résidence La Sittelle\, 10 Rue du Général Fontanges\, Les Andelys\, Eure\, 27700\, France
CATEGORIES:Loisirs,Sortie famille
ATTACH;FMTTYPE=image/jpeg:https://www.ville-andelys.fr/wp-content/uploads/Affiche-A4_marche-noel.jpg
ORGANIZER;CN="Habitat & humanisme Eure":MAILTO:eure@habitat-humanisme.org
END:VEVENT
END:VCALENDAR