BEGIN:VCALENDAR
VERSION:2.0
PRODID:-//Ville Des Andelys - ECPv6.15.20//NONSGML v1.0//EN
CALSCALE:GREGORIAN
METHOD:PUBLISH
X-ORIGINAL-URL:https://www.ville-andelys.fr
X-WR-CALDESC:Évènements pour Ville Des Andelys
REFRESH-INTERVAL;VALUE=DURATION:PT1H
X-Robots-Tag:noindex
X-PUBLISHED-TTL:PT1H
BEGIN:VTIMEZONE
TZID:Europe/Paris
BEGIN:DAYLIGHT
TZOFFSETFROM:+0100
TZOFFSETTO:+0200
TZNAME:CEST
DTSTART:20240331T010000
END:DAYLIGHT
BEGIN:STANDARD
TZOFFSETFROM:+0200
TZOFFSETTO:+0100
TZNAME:CET
DTSTART:20241027T010000
END:STANDARD
BEGIN:DAYLIGHT
TZOFFSETFROM:+0100
TZOFFSETTO:+0200
TZNAME:CEST
DTSTART:20250330T010000
END:DAYLIGHT
BEGIN:STANDARD
TZOFFSETFROM:+0200
TZOFFSETTO:+0100
TZNAME:CET
DTSTART:20251026T010000
END:STANDARD
BEGIN:DAYLIGHT
TZOFFSETFROM:+0100
TZOFFSETTO:+0200
TZNAME:CEST
DTSTART:20260329T010000
END:DAYLIGHT
BEGIN:STANDARD
TZOFFSETFROM:+0200
TZOFFSETTO:+0100
TZNAME:CET
DTSTART:20261025T010000
END:STANDARD
BEGIN:DAYLIGHT
TZOFFSETFROM:+0100
TZOFFSETTO:+0200
TZNAME:CEST
DTSTART:20270328T010000
END:DAYLIGHT
BEGIN:STANDARD
TZOFFSETFROM:+0200
TZOFFSETTO:+0100
TZNAME:CET
DTSTART:20271031T010000
END:STANDARD
END:VTIMEZONE
BEGIN:VEVENT
DTSTART;VALUE=DATE:20251205
DTEND;VALUE=DATE:20260105
DTSTAMP:20260419T190911
CREATED:20251121T112026Z
LAST-MODIFIED:20251121T112506Z
UID:10005445-1764892800-1767571199@www.ville-andelys.fr
SUMMARY:Festivités de Noël 2025
DESCRIPTION:Plongez dans la magie de Noël aux Andelys ! \nLa Ville des Andelys\, l’Office de la Culture et des Loisirs des Andelys (OCLA) et l’Union commerciale\, (UCIAL) vous propose des illuminations\, des animations et un marché de Noël. \nToutes les infos sur les festivités de Noël
URL:https://www.ville-andelys.fr/evenement/festivites-de-noel-2025/
LOCATION:Ville les Andelys\, Les Andelys\, Eure\, 27700\, France
CATEGORIES:Commerçant,Culturel,Loisirs,Manifestation,Sortie famille
ATTACH;FMTTYPE=image/jpeg:https://www.ville-andelys.fr/wp-content/uploads/Affiche-festivites-de-Noel-2025.jpg
ORGANIZER;CN="Ville des Andelys":MAILTO:contact@ville-andelys.fr
END:VEVENT
BEGIN:VEVENT
DTSTART;TZID=Europe/Paris:20251211T140000
DTEND;TZID=Europe/Paris:20251211T170000
DTSTAMP:20260419T190911
CREATED:20250924T134016Z
LAST-MODIFIED:20250924T134016Z
UID:10004002-1765461600-1765472400@www.ville-andelys.fr
SUMMARY:Atelier couture
DESCRIPTION:Donnez vie à vos idées : découvrez\, créez et réparez en couture et tricot ! \nLe Centre social des Andelys vous propose un atelier couture\, tous les jeudis de 14h00 à 17h00 à la Résidence autonomie Les Petits Prés (rue Flavigny). \nInscription auprès de Muriel LEMAY\, animatrice de la vie sociale : 06 70 85 50 40 / 02 32 54 75 63 / m.lemay@ville-andelys.fr \n\nCotisation annuelle : 12€
URL:https://www.ville-andelys.fr/evenement/atelier-couture-2/2025-12-11/
LOCATION:Résidence autonomie Les Petits Près\, Rue Flavigny\, Espace Christiane Hamard\, Les Andelys\, 27700
CATEGORIES:Loisirs,Solidarité
ATTACH;FMTTYPE=image/jpeg:https://www.ville-andelys.fr/wp-content/uploads/couture-cenytre-social-scaled.jpg
ORGANIZER;CN="Centre social des Andelys":MAILTO:centresocial@ville-andelys.fr
GEO:49.2463472;1.4053906
X-APPLE-STRUCTURED-LOCATION;VALUE=URI;X-ADDRESS=Résidence autonomie Les Petits Près Rue Flavigny Espace Christiane Hamard Les Andelys 27700;X-APPLE-RADIUS=500;X-TITLE=Rue Flavigny\, Espace Christiane Hamard:geo:1.4053906,49.2463472
END:VEVENT
BEGIN:VEVENT
DTSTART;TZID=Europe/Paris:20251211T160000
DTEND;TZID=Europe/Paris:20251211T170000
DTSTAMP:20260419T190911
CREATED:20251115T162759Z
LAST-MODIFIED:20251126T113927Z
UID:10002548-1765468800-1765472400@www.ville-andelys.fr
SUMMARY:Portes ouvertes TPS
DESCRIPTION:Jeudi 11 décembre de 16h00 à 17h00\, l’école Georges Pompidou vous propose des portes ouvertes pour la Toute petite section destinée aux enfants âgés de 2 à 3 ans. \nVenez découvrir le dispositif\, l’équipe et les classes. \nPour les enfants : \n\nSe familiariser avec l’école\nPermettre aux enfants d’éprouver le plaisir d’apprendre\nDévelopper son langage\nAccompagner vers la propreté\nTravailler sur la séparation\nSe sociabiliser\n\nPour les parents : \n\n(Re)découvrir le milieu scolaire\nParticiper aux activités de la classe avec votre enfant\nTravailler sur la séparation\nCafé des parents : échanger avec d’autres parents et des professionnels de l’enfance\n\nTélécharger le flyer \n 
URL:https://www.ville-andelys.fr/evenement/portes-ouvertes-tps/
LOCATION:École Georges Pompidou
CATEGORIES:Jeunesse
ATTACH;FMTTYPE=image/jpeg:https://www.ville-andelys.fr/wp-content/uploads/Porte-ouvertes-toute-petite-section-11-dec-2025-scaled.jpg
ORGANIZER;CN="%C3%89cole Georges Pompidou":MAILTO:ce.0270544V@ac-rouen.fr
END:VEVENT
END:VCALENDAR